BEGIN:VCALENDAR
VERSION:2.0
PRODID:-//Salisbury &amp; Amesbury AFVBC - ECPv6.15.20//NONSGML v1.0//EN
CALSCALE:GREGORIAN
METHOD:PUBLISH
X-WR-CALNAME:Salisbury &amp; Amesbury AFVBC
X-ORIGINAL-URL:https://salisbury-afvbc.co.uk
X-WR-CALDESC:Events for Salisbury &amp; Amesbury AFVBC
REFRESH-INTERVAL;VALUE=DURATION:PT1H
X-Robots-Tag:noindex
X-PUBLISHED-TTL:PT1H
BEGIN:VTIMEZONE
TZID:Europe/London
BEGIN:DAYLIGHT
TZOFFSETFROM:+0000
TZOFFSETTO:+0100
TZNAME:BST
DTSTART:20240331T010000
END:DAYLIGHT
BEGIN:STANDARD
TZOFFSETFROM:+0100
TZOFFSETTO:+0000
TZNAME:GMT
DTSTART:20241027T010000
END:STANDARD
BEGIN:DAYLIGHT
TZOFFSETFROM:+0000
TZOFFSETTO:+0100
TZNAME:BST
DTSTART:20250330T010000
END:DAYLIGHT
BEGIN:STANDARD
TZOFFSETFROM:+0100
TZOFFSETTO:+0000
TZNAME:GMT
DTSTART:20251026T010000
END:STANDARD
BEGIN:DAYLIGHT
TZOFFSETFROM:+0000
TZOFFSETTO:+0100
TZNAME:BST
DTSTART:20260329T010000
END:DAYLIGHT
BEGIN:STANDARD
TZOFFSETFROM:+0100
TZOFFSETTO:+0000
TZNAME:GMT
DTSTART:20261025T010000
END:STANDARD
END:VTIMEZONE
BEGIN:VEVENT
DTSTART;TZID=Europe/London:20250903T101500
DTEND;TZID=Europe/London:20250903T123000
DTSTAMP:20260423T031434
CREATED:20250106T180845Z
LAST-MODIFIED:20250106T180845Z
UID:9229-1756894500-1756902600@salisbury-afvbc.co.uk
SUMMARY:Amesbury Brew & Banter
DESCRIPTION:Come and join us for brew and some good banter at the Nicholson centre every Wednesday from 1015hrs.  For a small donation of £2 you can sample some excellent homemade backed goodies and bottomless brews.  All proceeds go to Military Charities
URL:https://salisbury-afvbc.co.uk/event/amesbury-brew-banter-100/
LOCATION:Nicolson Centre\, Stockport Road\, Amesbury\, SP4 0JE\, United Kingdom
END:VEVENT
BEGIN:VEVENT
DTSTART;TZID=Europe/London:20250905T110000
DTEND;TZID=Europe/London:20250905T130000
DTSTAMP:20260423T031434
CREATED:20250106T174704Z
LAST-MODIFIED:20250106T174704Z
UID:9194-1757070000-1757077200@salisbury-afvbc.co.uk
SUMMARY:Brew & Banter
DESCRIPTION:  \nBrew and Banter  will continue to support Karen Langleys “Boots on the Ground” initiative.  Please come along for a Brew and some of Salisburys finest baked goods at a fraction of the price that you will pay in a local coffee house.  Remember all funds raised go to our own supported charity.
URL:https://salisbury-afvbc.co.uk/event/brew-banter-117/
LOCATION:Riverside Santuary\, 2 Watt Road\, Salisbury\, Wiltshire\, SP2 7UD\, United Kingdom
END:VEVENT
BEGIN:VEVENT
DTSTART;TZID=Europe/London:20250907T093000
DTEND;TZID=Europe/London:20250907T230000
DTSTAMP:20260423T031434
CREATED:20250811T175910Z
LAST-MODIFIED:20250811T175910Z
UID:9557-1757237400-1757286000@salisbury-afvbc.co.uk
SUMMARY:Breakfast at The Boscombe Down Aviation Collection - 07 September
DESCRIPTION:Currently RegisteredPhil Budd \n \n\nThe Field Kitchen breakfast will deploy to the Boscombe Down Aviation Collections based in Old Sarum airfield.  There is plenty of parking and can be accessed by public transport (R11 Ramsbury Drive).  This is a great opportunity to see the aviation collection.  The usual Field Kitchen breakfast arrangements apply ie bring chairs and banter\, with the first sausage flying out of the pan at around 1000hrs.
URL:https://salisbury-afvbc.co.uk/event/breakfast-at-the-boscombe-down-aviation-collection-07-september/
LOCATION:BDAC\, Hanger 1\, Old Sarum Airfield\, Old Sarum\, SP4 6DZ
ATTACH;FMTTYPE=image/jpeg:https://salisbury-afvbc.co.uk/wp-content/uploads/2022/06/images-22.jpeg
END:VEVENT
BEGIN:VEVENT
DTSTART;TZID=Europe/London:20250910T101500
DTEND;TZID=Europe/London:20250910T123000
DTSTAMP:20260423T031434
CREATED:20250106T180912Z
LAST-MODIFIED:20250106T180912Z
UID:9228-1757499300-1757507400@salisbury-afvbc.co.uk
SUMMARY:Amesbury Brew & Banter
DESCRIPTION:Come and join us for brew and some good banter at the Nicholson centre every Wednesday from 1015hrs.  For a small donation of £2 you can sample some excellent homemade backed goodies and bottomless brews.  All proceeds go to Military Charities
URL:https://salisbury-afvbc.co.uk/event/amesbury-brew-banter-101/
LOCATION:Nicolson Centre\, Stockport Road\, Amesbury\, SP4 0JE\, United Kingdom
END:VEVENT
BEGIN:VEVENT
DTSTART;TZID=Europe/London:20250912T110000
DTEND;TZID=Europe/London:20250912T130000
DTSTAMP:20260423T031434
CREATED:20250106T174749Z
LAST-MODIFIED:20250106T174749Z
UID:9193-1757674800-1757682000@salisbury-afvbc.co.uk
SUMMARY:Brew & Banter
DESCRIPTION:  \nBrew and Banter  will continue to support Karen Langleys “Boots on the Ground” initiative.  Please come along for a Brew and some of Salisburys finest baked goods at a fraction of the price that you will pay in a local coffee house.  Remember all funds raised go to our own supported charity.
URL:https://salisbury-afvbc.co.uk/event/brew-banter-118/
LOCATION:Riverside Santuary\, 2 Watt Road\, Salisbury\, Wiltshire\, SP2 7UD\, United Kingdom
END:VEVENT
BEGIN:VEVENT
DTSTART;TZID=Europe/London:20250914T093000
DTEND;TZID=Europe/London:20250914T113000
DTSTAMP:20260423T031434
CREATED:20250816T065022Z
LAST-MODIFIED:20250816T065022Z
UID:9605-1757842200-1757849400@salisbury-afvbc.co.uk
SUMMARY:Breakfast - The Stones Hotel - 14 September 2025
DESCRIPTION:An excellent breakfast in The Stones Hotel  Coffee is served from 0930hrs\, which is a great chance to meet new people and catch up with friends.  Dress is very relaxed or as formal as you like! \nPlease book and pay here\nYou are now required to pay prior to the event\, there will NOT be any provision to pay on the day.  Refund requests without 3 full working days prior to the event will not be accepted
URL:https://salisbury-afvbc.co.uk/event/breakfast-the-stones-hotel-14-september-2025/
LOCATION:The Stones Hotel\, Highpost\, SP4 6AT\, United Kingdom
CATEGORIES:AFVBC Breakfast
END:VEVENT
BEGIN:VEVENT
DTSTART;TZID=Europe/London:20250917T090000
DTEND;TZID=Europe/London:20250917T230000
DTSTAMP:20260423T031434
CREATED:20250106T164523Z
LAST-MODIFIED:20250106T164523Z
UID:9056-1758099600-1758150000@salisbury-afvbc.co.uk
SUMMARY:Breakfast in Chapters - 17 September
DESCRIPTION:Chapters Communal Areas \nCome and join us for Breakfast in Chapters Bistro\, although this is the homeowners Bistro\, it is open for AFVBC members to attend the monthly breakfast held on the third Wednesday of the month
URL:https://salisbury-afvbc.co.uk/event/breakfast-in-chapters-17-september/
LOCATION:Chapters Bistro\, Off Fountain way\, Wilton Road\, Salsibury\, SP2 7EP\, United Kingdom
END:VEVENT
BEGIN:VEVENT
DTSTART;TZID=Europe/London:20250917T101500
DTEND;TZID=Europe/London:20250917T123000
DTSTAMP:20260423T031434
CREATED:20250106T180940Z
LAST-MODIFIED:20250106T180940Z
UID:9227-1758104100-1758112200@salisbury-afvbc.co.uk
SUMMARY:Amesbury Brew & Banter
DESCRIPTION:Come and join us for brew and some good banter at the Nicholson centre every Wednesday from 1015hrs.  For a small donation of £2 you can sample some excellent homemade backed goodies and bottomless brews.  All proceeds go to Military Charities
URL:https://salisbury-afvbc.co.uk/event/amesbury-brew-banter-102/
LOCATION:Nicolson Centre\, Stockport Road\, Amesbury\, SP4 0JE\, United Kingdom
END:VEVENT
BEGIN:VEVENT
DTSTART;TZID=Europe/London:20250919T110000
DTEND;TZID=Europe/London:20250919T130000
DTSTAMP:20260423T031434
CREATED:20250106T174830Z
LAST-MODIFIED:20250106T174830Z
UID:9192-1758279600-1758286800@salisbury-afvbc.co.uk
SUMMARY:Brew & Banter
DESCRIPTION:  \nBrew and Banter  will continue to support Karen Langleys “Boots on the Ground” initiative.  Please come along for a Brew and some of Salisburys finest baked goods at a fraction of the price that you will pay in a local coffee house.  Remember all funds raised go to our own supported charity.
URL:https://salisbury-afvbc.co.uk/event/brew-banter-119/
LOCATION:Riverside Santuary\, 2 Watt Road\, Salisbury\, Wiltshire\, SP2 7UD\, United Kingdom
END:VEVENT
BEGIN:VEVENT
DTSTART;TZID=Europe/London:20250924T101500
DTEND;TZID=Europe/London:20250924T123000
DTSTAMP:20260423T031434
CREATED:20250106T181017Z
LAST-MODIFIED:20250106T181017Z
UID:9226-1758708900-1758717000@salisbury-afvbc.co.uk
SUMMARY:Amesbury Brew & Banter
DESCRIPTION:Come and join us for brew and some good banter at the Nicholson centre every Wednesday from 1015hrs.  For a small donation of £2 you can sample some excellent homemade backed goodies and bottomless brews.  All proceeds go to Military Charities
URL:https://salisbury-afvbc.co.uk/event/amesbury-brew-banter-103/
LOCATION:Nicolson Centre\, Stockport Road\, Amesbury\, SP4 0JE\, United Kingdom
END:VEVENT
BEGIN:VEVENT
DTSTART;TZID=Europe/London:20250927T063000
DTEND;TZID=Europe/London:20250927T150000
DTSTAMP:20260423T031434
CREATED:20250107T172357Z
LAST-MODIFIED:20250816T062546Z
UID:9288-1758954600-1758985200@salisbury-afvbc.co.uk
SUMMARY:Field Kitchen at the Charter Market - 27 September
DESCRIPTION:Along with the ABF book stall\, we will have quite a presence in that right hand corner.  Remember every penny these guys and girls raise for doing this throughout the year\, goes into our AFVBC for your benefit\, bringing you everything from subsidised Summer balls to Christmas balls and trips etc etc. Please do come along\, support them and say hello!
URL:https://salisbury-afvbc.co.uk/event/field-kitchen-at-the-charter-market-20-september/
LOCATION:Salisbury Market Square\, The Guildhall Market Place\, Salsibury\, Wiltsire\, SP1 1JH\, United Kingdom
END:VEVENT
BEGIN:VEVENT
DTSTART;TZID=Europe/London:20250928T123000
DTEND;TZID=Europe/London:20250928T153000
DTSTAMP:20260423T031434
CREATED:20250615T093000Z
LAST-MODIFIED:20250924T165141Z
UID:9507-1759062600-1759073400@salisbury-afvbc.co.uk
SUMMARY:Sunday Lunch at The White Hart - 28 September
DESCRIPTION:Currently RegisteredRoger Tervit Philip Budd Phil Rood Stella Crowe Sheila Gartside Peter Duffill John Smith-Enticott Les Smith John Smith-Enticott Andrew Heath Karen Langley Christopher Williams Bambra Freeman T Mclaren-Shepherd Peter Greatorex Steve Williams Andy McCafferty Elizabeth (Lisa) Abbott-myerscough Don Baggett Jackie Clark Abby Duncan Andy McCafferty  \n \nMenu\nStarter\n1. Asparagus and Pea Soup\, Sour Cream \n2. Serrano Ham with Fig and Mozzarella Salad\, Fig Glaze \n3. Beetroot Falafel with Hummus and Tzayzyki \n4. Tempura Prawns with Dressed Rocket\, Sweet Chilli Mayo \nMains\n5. Roast Loin of Pork with House Stuffing and Apple Sauce \n6. Breast of Chicken with a Mushroom Cream Sauce \n7. Poached Fillet of Salmon\, \nwith Wilted Spinach & Lemon Butter Sauce \n8. Baked Aubergine filled with Ratatouille with Pesto Cream Sauce \nServed with Potatoes and Seasonal Vegetables \nDesserts\n9. Sticky Toffee Pudding with Toffee Sauce and Custard \n10. Warm Chocolate Brownie with Chocolate Sauce  \nwith Vanilla Ice-cream \n11. Vanilla and Salted Caramel Cheesecake with salted Caramel Ice-cream \n12. Crème Brûlée with Shortbread Biscuit \nTo Finish\nCoffee and Chocolates \n2 COURSES with COFFEE and CHOCOLATES – £22.71 \n3 COURSES with COFFEE and CHOCOLATES – £28.43 \nPlease pay here\nYou are now required to pay prior to the event\, there will NOT be any provision to pay on the day.  Refund requests without 3 full working days prior to the event will not be accepted
URL:https://salisbury-afvbc.co.uk/event/sunday-lunch-at-the-white-hart-28-september/
LOCATION:Mercure White Hart Hotel\, 1 St John's Street\, Salisbury\, Wilthsire\, SP1 2SD\, United Kingdom
CATEGORIES:Sunday Lunch
ATTACH;FMTTYPE=image/jpeg:https://salisbury-afvbc.co.uk/wp-content/uploads/2021/08/SundayLunch1.jpg
ORGANIZER;CN="John Smith-Enticott":MAILTO:Bagpuss.50@btinternet.com
END:VEVENT
END:VCALENDAR