BEGIN:VCALENDAR
VERSION:2.0
PRODID:-//Salisbury &amp; Amesbury AFVBC - ECPv6.15.20//NONSGML v1.0//EN
CALSCALE:GREGORIAN
METHOD:PUBLISH
X-ORIGINAL-URL:https://salisbury-afvbc.co.uk
X-WR-CALDESC:Events for Salisbury &amp; Amesbury AFVBC
REFRESH-INTERVAL;VALUE=DURATION:PT1H
X-Robots-Tag:noindex
X-PUBLISHED-TTL:PT1H
BEGIN:VTIMEZONE
TZID:Europe/London
BEGIN:DAYLIGHT
TZOFFSETFROM:+0000
TZOFFSETTO:+0100
TZNAME:BST
DTSTART:20250330T010000
END:DAYLIGHT
BEGIN:STANDARD
TZOFFSETFROM:+0100
TZOFFSETTO:+0000
TZNAME:GMT
DTSTART:20251026T010000
END:STANDARD
BEGIN:DAYLIGHT
TZOFFSETFROM:+0000
TZOFFSETTO:+0100
TZNAME:BST
DTSTART:20260329T010000
END:DAYLIGHT
BEGIN:STANDARD
TZOFFSETFROM:+0100
TZOFFSETTO:+0000
TZNAME:GMT
DTSTART:20261025T010000
END:STANDARD
BEGIN:DAYLIGHT
TZOFFSETFROM:+0000
TZOFFSETTO:+0100
TZNAME:BST
DTSTART:20270328T010000
END:DAYLIGHT
BEGIN:STANDARD
TZOFFSETFROM:+0100
TZOFFSETTO:+0000
TZNAME:GMT
DTSTART:20271031T010000
END:STANDARD
END:VTIMEZONE
BEGIN:VEVENT
DTSTART;TZID=Europe/London:20261104T101500
DTEND;TZID=Europe/London:20261104T123000
DTSTAMP:20260423T042832
CREATED:20251125T174038Z
LAST-MODIFIED:20251125T174038Z
UID:10158-1793787300-1793795400@salisbury-afvbc.co.uk
SUMMARY:Amesbury Brew & Banter
DESCRIPTION:Come and join us for brew and some good banter at the Nicholson centre every Wednesday from 1015hrs.  For a small donation of £2 you can sample some excellent homemade backed goodies and bottomless brews.  All proceeds go to Military Charities
URL:https://salisbury-afvbc.co.uk/event/amesbury-brew-banter-44/
LOCATION:Nicolson Centre\, Stockport Road\, Amesbury\, SP4 0JE\, United Kingdom
END:VEVENT
BEGIN:VEVENT
DTSTART;TZID=Europe/London:20261106T110000
DTEND;TZID=Europe/London:20261106T130000
DTSTAMP:20260423T042832
CREATED:20251125T175634Z
LAST-MODIFIED:20251125T175634Z
UID:10210-1793962800-1793970000@salisbury-afvbc.co.uk
SUMMARY:Brew & Banter
DESCRIPTION:  \nBrew and Banter  will continue to support Karen Langleys “Boots on the Ground” initiative.  Please come along for a Brew and some of Salisburys finest baked goods at a fraction of the price that you will pay in a local coffee house.  Remember all funds raised go to our own supported charity.
URL:https://salisbury-afvbc.co.uk/event/brew-banter-50/
LOCATION:Riverside Santuary\, 2 Watt Road\, Salisbury\, Wiltshire\, SP2 7UD\, United Kingdom
END:VEVENT
BEGIN:VEVENT
DTSTART;TZID=Europe/London:20261108T093000
DTEND;TZID=Europe/London:20261108T113000
DTSTAMP:20260423T042832
CREATED:20251121T165142Z
LAST-MODIFIED:20251121T165142Z
UID:9946-1794130200-1794137400@salisbury-afvbc.co.uk
SUMMARY:Breakfast - The White Hart - 08 November 2026
DESCRIPTION:Currently Registered\n				Be the first! \n			\n			\n \n\nAn excellent breakfast in the hart of Salisbury.  Coffee is served from 0930hrs\, which is a great chance to meet new people and catch up with friends.  Dress is very relaxed or as formal as you like! \nPlease pay at reception as you enter and obtain a ticket
URL:https://salisbury-afvbc.co.uk/event/breakfast-the-white-hart-08-november-2026/
LOCATION:Mercure White Hart Hotel\, 1 St John's Street\, Salisbury\, Wilthsire\, SP1 2SD\, United Kingdom
CATEGORIES:AFVBC Breakfast
END:VEVENT
BEGIN:VEVENT
DTSTART;TZID=Europe/London:20261111T101500
DTEND;TZID=Europe/London:20261111T123000
DTSTAMP:20260423T042832
CREATED:20251125T174105Z
LAST-MODIFIED:20251125T174105Z
UID:10157-1794392100-1794400200@salisbury-afvbc.co.uk
SUMMARY:Amesbury Brew & Banter
DESCRIPTION:Come and join us for brew and some good banter at the Nicholson centre every Wednesday from 1015hrs.  For a small donation of £2 you can sample some excellent homemade backed goodies and bottomless brews.  All proceeds go to Military Charities
URL:https://salisbury-afvbc.co.uk/event/amesbury-brew-banter-45/
LOCATION:Nicolson Centre\, Stockport Road\, Amesbury\, SP4 0JE\, United Kingdom
END:VEVENT
BEGIN:VEVENT
DTSTART;TZID=Europe/London:20261113T110000
DTEND;TZID=Europe/London:20261113T130000
DTSTAMP:20260423T042832
CREATED:20251125T175703Z
LAST-MODIFIED:20251125T175703Z
UID:10209-1794567600-1794574800@salisbury-afvbc.co.uk
SUMMARY:Brew & Banter
DESCRIPTION:  \nBrew and Banter  will continue to support Karen Langleys “Boots on the Ground” initiative.  Please come along for a Brew and some of Salisburys finest baked goods at a fraction of the price that you will pay in a local coffee house.  Remember all funds raised go to our own supported charity.
URL:https://salisbury-afvbc.co.uk/event/brew-banter-51/
LOCATION:Riverside Santuary\, 2 Watt Road\, Salisbury\, Wiltshire\, SP2 7UD\, United Kingdom
END:VEVENT
BEGIN:VEVENT
DTSTART;TZID=Europe/London:20261115T123000
DTEND;TZID=Europe/London:20261115T153000
DTSTAMP:20260423T042832
CREATED:20251125T151831Z
LAST-MODIFIED:20251125T151858Z
UID:10004-1794745800-1794756600@salisbury-afvbc.co.uk
SUMMARY:Sunday Lunch at The White Hart - 15 November 2026
DESCRIPTION:Currently Registered\n				Be the first! \n			\n			 \n \nMenu to follow\n2 COURSES with COFFEE and CHOCOLATES – £21.25 \n3 COURSES with COFFEE and CHOCOLATES – £26.25
URL:https://salisbury-afvbc.co.uk/event/sunday-lunch-at-the-white-hart-20-september-2026-copy-copy/
LOCATION:Mercure White Hart Hotel\, 1 St John's Street\, Salisbury\, Wilthsire\, SP1 2SD\, United Kingdom
CATEGORIES:Sunday Lunch
ATTACH;FMTTYPE=image/jpeg:https://salisbury-afvbc.co.uk/wp-content/uploads/2021/08/SundayLunch1.jpg
ORGANIZER;CN="John Smith-Enticott":MAILTO:Bagpuss.50@btinternet.com
END:VEVENT
BEGIN:VEVENT
DTSTART;TZID=Europe/London:20261118T090000
DTEND;TZID=Europe/London:20261118T230000
DTSTAMP:20260423T042832
CREATED:20251125T145838Z
LAST-MODIFIED:20251125T145838Z
UID:9966-1794992400-1795042800@salisbury-afvbc.co.uk
SUMMARY:Breakfast in Chapters - 18 November 2026
DESCRIPTION:Come and join us for Breakfast in Chapters Bistro\, although this is the homeowners Bistro\, it is open for AFVBC members to attend the monthly breakfast held on the third Wednesday of the month
URL:https://salisbury-afvbc.co.uk/event/breakfast-in-chapters-18-november-2026/
LOCATION:Chapters Bistro\, Off Fountain way\, Wilton Road\, Salsibury\, SP2 7EP\, United Kingdom
END:VEVENT
BEGIN:VEVENT
DTSTART;TZID=Europe/London:20261118T101500
DTEND;TZID=Europe/London:20261118T123000
DTSTAMP:20260423T042832
CREATED:20251125T174130Z
LAST-MODIFIED:20251125T174130Z
UID:10156-1794996900-1795005000@salisbury-afvbc.co.uk
SUMMARY:Amesbury Brew & Banter
DESCRIPTION:Come and join us for brew and some good banter at the Nicholson centre every Wednesday from 1015hrs.  For a small donation of £2 you can sample some excellent homemade backed goodies and bottomless brews.  All proceeds go to Military Charities
URL:https://salisbury-afvbc.co.uk/event/amesbury-brew-banter-46/
LOCATION:Nicolson Centre\, Stockport Road\, Amesbury\, SP4 0JE\, United Kingdom
END:VEVENT
BEGIN:VEVENT
DTSTART;TZID=Europe/London:20261120T110000
DTEND;TZID=Europe/London:20261120T130000
DTSTAMP:20260423T042832
CREATED:20251125T175754Z
LAST-MODIFIED:20251125T175754Z
UID:10208-1795172400-1795179600@salisbury-afvbc.co.uk
SUMMARY:Brew & Banter
DESCRIPTION:  \nBrew and Banter  will continue to support Karen Langleys “Boots on the Ground” initiative.  Please come along for a Brew and some of Salisburys finest baked goods at a fraction of the price that you will pay in a local coffee house.  Remember all funds raised go to our own supported charity.
URL:https://salisbury-afvbc.co.uk/event/brew-banter-52/
LOCATION:Riverside Santuary\, 2 Watt Road\, Salisbury\, Wiltshire\, SP2 7UD\, United Kingdom
END:VEVENT
BEGIN:VEVENT
DTSTART;TZID=Europe/London:20261121T063000
DTEND;TZID=Europe/London:20261121T150000
DTSTAMP:20260423T042832
CREATED:20251125T182345Z
LAST-MODIFIED:20251125T182345Z
UID:10221-1795242600-1795273200@salisbury-afvbc.co.uk
SUMMARY:Field Kitchen at the Charter Market - 21 November 2026
DESCRIPTION:  \n  \n  \n  \n  \n  \n  \nAlong with the ABF book stall\, we will have quite a presence in that right hand corner.  Remember every penny these guys and girls raise for doing this throughout the year\, goes into our AFVBC for your benefit\, bringing you everything from subsidised Summer balls to Christmas balls and trips etc etc. Please do come along\, support them and say hello!
URL:https://salisbury-afvbc.co.uk/event/field-kitchen-at-the-charter-market-21-november-2026/
LOCATION:Salisbury Market Square\, The Guildhall Market Place\, Salsibury\, Wiltsire\, SP1 1JH\, United Kingdom
END:VEVENT
BEGIN:VEVENT
DTSTART;TZID=Europe/London:20261125T101500
DTEND;TZID=Europe/London:20261125T123000
DTSTAMP:20260423T042832
CREATED:20251125T174156Z
LAST-MODIFIED:20251125T174156Z
UID:10155-1795601700-1795609800@salisbury-afvbc.co.uk
SUMMARY:Amesbury Brew & Banter
DESCRIPTION:Come and join us for brew and some good banter at the Nicholson centre every Wednesday from 1015hrs.  For a small donation of £2 you can sample some excellent homemade backed goodies and bottomless brews.  All proceeds go to Military Charities
URL:https://salisbury-afvbc.co.uk/event/amesbury-brew-banter-47/
LOCATION:Nicolson Centre\, Stockport Road\, Amesbury\, SP4 0JE\, United Kingdom
END:VEVENT
BEGIN:VEVENT
DTSTART;TZID=Europe/London:20261127T110000
DTEND;TZID=Europe/London:20261127T130000
DTSTAMP:20260423T042832
CREATED:20251125T175818Z
LAST-MODIFIED:20251125T175818Z
UID:10207-1795777200-1795784400@salisbury-afvbc.co.uk
SUMMARY:Brew & Banter
DESCRIPTION:  \nBrew and Banter  will continue to support Karen Langleys “Boots on the Ground” initiative.  Please come along for a Brew and some of Salisburys finest baked goods at a fraction of the price that you will pay in a local coffee house.  Remember all funds raised go to our own supported charity.
URL:https://salisbury-afvbc.co.uk/event/brew-banter-53/
LOCATION:Riverside Santuary\, 2 Watt Road\, Salisbury\, Wiltshire\, SP2 7UD\, United Kingdom
END:VEVENT
BEGIN:VEVENT
DTSTART;TZID=Europe/London:20261202T101500
DTEND;TZID=Europe/London:20261202T123000
DTSTAMP:20260423T042832
CREATED:20251125T174232Z
LAST-MODIFIED:20251125T174232Z
UID:10154-1796206500-1796214600@salisbury-afvbc.co.uk
SUMMARY:Amesbury Brew & Banter
DESCRIPTION:Come and join us for brew and some good banter at the Nicholson centre every Wednesday from 1015hrs.  For a small donation of £2 you can sample some excellent homemade backed goodies and bottomless brews.  All proceeds go to Military Charities
URL:https://salisbury-afvbc.co.uk/event/amesbury-brew-banter-48/
LOCATION:Nicolson Centre\, Stockport Road\, Amesbury\, SP4 0JE\, United Kingdom
END:VEVENT
BEGIN:VEVENT
DTSTART;TZID=Europe/London:20261204T110000
DTEND;TZID=Europe/London:20261204T130000
DTSTAMP:20260423T042832
CREATED:20251125T175855Z
LAST-MODIFIED:20251125T175855Z
UID:10206-1796382000-1796389200@salisbury-afvbc.co.uk
SUMMARY:Brew & Banter
DESCRIPTION:  \nBrew and Banter  will continue to support Karen Langleys “Boots on the Ground” initiative.  Please come along for a Brew and some of Salisburys finest baked goods at a fraction of the price that you will pay in a local coffee house.  Remember all funds raised go to our own supported charity.
URL:https://salisbury-afvbc.co.uk/event/brew-banter-54/
LOCATION:Riverside Santuary\, 2 Watt Road\, Salisbury\, Wiltshire\, SP2 7UD\, United Kingdom
END:VEVENT
BEGIN:VEVENT
DTSTART;TZID=Europe/London:20261209T101500
DTEND;TZID=Europe/London:20261209T123000
DTSTAMP:20260423T042832
CREATED:20251125T174258Z
LAST-MODIFIED:20251125T174258Z
UID:10153-1796811300-1796819400@salisbury-afvbc.co.uk
SUMMARY:Amesbury Brew & Banter
DESCRIPTION:Come and join us for brew and some good banter at the Nicholson centre every Wednesday from 1015hrs.  For a small donation of £2 you can sample some excellent homemade backed goodies and bottomless brews.  All proceeds go to Military Charities
URL:https://salisbury-afvbc.co.uk/event/amesbury-brew-banter-49/
LOCATION:Nicolson Centre\, Stockport Road\, Amesbury\, SP4 0JE\, United Kingdom
END:VEVENT
BEGIN:VEVENT
DTSTART;TZID=Europe/London:20261211T110000
DTEND;TZID=Europe/London:20261211T130000
DTSTAMP:20260423T042832
CREATED:20251125T175920Z
LAST-MODIFIED:20251125T175920Z
UID:10205-1796986800-1796994000@salisbury-afvbc.co.uk
SUMMARY:Brew & Banter
DESCRIPTION:  \nBrew and Banter  will continue to support Karen Langleys “Boots on the Ground” initiative.  Please come along for a Brew and some of Salisburys finest baked goods at a fraction of the price that you will pay in a local coffee house.  Remember all funds raised go to our own supported charity.
URL:https://salisbury-afvbc.co.uk/event/brew-banter-55/
LOCATION:Riverside Santuary\, 2 Watt Road\, Salisbury\, Wiltshire\, SP2 7UD\, United Kingdom
END:VEVENT
BEGIN:VEVENT
DTSTART;TZID=Europe/London:20261213T093000
DTEND;TZID=Europe/London:20261213T113000
DTSTAMP:20260423T042832
CREATED:20251121T165300Z
LAST-MODIFIED:20251121T165310Z
UID:9947-1797154200-1797161400@salisbury-afvbc.co.uk
SUMMARY:Breakfast - The White Hart - 13 December 2026
DESCRIPTION:Currently Registered\n				Be the first! \n			\n			\n \n\nAn excellent breakfast in the hart of Salisbury.  Coffee is served from 0930hrs\, which is a great chance to meet new people and catch up with friends.  Dress is very relaxed or as formal as you like! \nPlease pay at reception as you enter and obtain a ticket
URL:https://salisbury-afvbc.co.uk/event/breakfast-the-white-hart-13-december-2026/
LOCATION:Mercure White Hart Hotel\, 1 St John's Street\, Salisbury\, Wilthsire\, SP1 2SD\, United Kingdom
CATEGORIES:AFVBC Breakfast
END:VEVENT
BEGIN:VEVENT
DTSTART;TZID=Europe/London:20261216T090000
DTEND;TZID=Europe/London:20261216T230000
DTSTAMP:20260423T042832
CREATED:20251125T145943Z
LAST-MODIFIED:20251125T145943Z
UID:9988-1797411600-1797462000@salisbury-afvbc.co.uk
SUMMARY:Breakfast in Chapters - 16 December 2026
DESCRIPTION:Come and join us for Breakfast in Chapters Bistro\, although this is the homeowners Bistro\, it is open for AFVBC members to attend the monthly breakfast held on the third Wednesday of the month
URL:https://salisbury-afvbc.co.uk/event/breakfast-in-chapters-16-december-2026/
LOCATION:Chapters Bistro\, Off Fountain way\, Wilton Road\, Salsibury\, SP2 7EP\, United Kingdom
END:VEVENT
BEGIN:VEVENT
DTSTART;TZID=Europe/London:20261216T101500
DTEND;TZID=Europe/London:20261216T123000
DTSTAMP:20260423T042832
CREATED:20251125T174324Z
LAST-MODIFIED:20251125T174324Z
UID:10152-1797416100-1797424200@salisbury-afvbc.co.uk
SUMMARY:Amesbury Brew & Banter
DESCRIPTION:Come and join us for brew and some good banter at the Nicholson centre every Wednesday from 1015hrs.  For a small donation of £2 you can sample some excellent homemade backed goodies and bottomless brews.  All proceeds go to Military Charities
URL:https://salisbury-afvbc.co.uk/event/amesbury-brew-banter-50/
LOCATION:Nicolson Centre\, Stockport Road\, Amesbury\, SP4 0JE\, United Kingdom
END:VEVENT
BEGIN:VEVENT
DTSTART;TZID=Europe/London:20261218T110000
DTEND;TZID=Europe/London:20261218T130000
DTSTAMP:20260423T042832
CREATED:20251125T175949Z
LAST-MODIFIED:20251125T175949Z
UID:10204-1797591600-1797598800@salisbury-afvbc.co.uk
SUMMARY:Brew & Banter
DESCRIPTION:  \nBrew and Banter  will continue to support Karen Langleys “Boots on the Ground” initiative.  Please come along for a Brew and some of Salisburys finest baked goods at a fraction of the price that you will pay in a local coffee house.  Remember all funds raised go to our own supported charity.
URL:https://salisbury-afvbc.co.uk/event/brew-banter-56/
LOCATION:Riverside Santuary\, 2 Watt Road\, Salisbury\, Wiltshire\, SP2 7UD\, United Kingdom
END:VEVENT
BEGIN:VEVENT
DTSTART;TZID=Europe/London:20261220T123000
DTEND;TZID=Europe/London:20261220T153000
DTSTAMP:20260423T042832
CREATED:20251125T151946Z
LAST-MODIFIED:20251125T151946Z
UID:10005-1797769800-1797780600@salisbury-afvbc.co.uk
SUMMARY:Sunday Lunch at The White Hart - 20 December 2026
DESCRIPTION:Currently Registered\n				Be the first! \n			\n			 \n \nMenu to follow\n2 COURSES with COFFEE and CHOCOLATES – £21.25 \n3 COURSES with COFFEE and CHOCOLATES – £26.25
URL:https://salisbury-afvbc.co.uk/event/sunday-lunch-at-the-white-hart-20-december-2026/
LOCATION:Mercure White Hart Hotel\, 1 St John's Street\, Salisbury\, Wilthsire\, SP1 2SD\, United Kingdom
CATEGORIES:Sunday Lunch
ATTACH;FMTTYPE=image/jpeg:https://salisbury-afvbc.co.uk/wp-content/uploads/2021/08/SundayLunch1.jpg
ORGANIZER;CN="John Smith-Enticott":MAILTO:Bagpuss.50@btinternet.com
END:VEVENT
END:VCALENDAR