BEGIN:VCALENDAR
VERSION:2.0
PRODID:-//Salisbury &amp; Amesbury AFVBC - ECPv6.15.20//NONSGML v1.0//EN
CALSCALE:GREGORIAN
METHOD:PUBLISH
X-WR-CALNAME:Salisbury &amp; Amesbury AFVBC
X-ORIGINAL-URL:https://salisbury-afvbc.co.uk
X-WR-CALDESC:Events for Salisbury &amp; Amesbury AFVBC
REFRESH-INTERVAL;VALUE=DURATION:PT1H
X-Robots-Tag:noindex
X-PUBLISHED-TTL:PT1H
BEGIN:VTIMEZONE
TZID:Europe/London
BEGIN:DAYLIGHT
TZOFFSETFROM:+0000
TZOFFSETTO:+0100
TZNAME:BST
DTSTART:20250330T010000
END:DAYLIGHT
BEGIN:STANDARD
TZOFFSETFROM:+0100
TZOFFSETTO:+0000
TZNAME:GMT
DTSTART:20251026T010000
END:STANDARD
BEGIN:DAYLIGHT
TZOFFSETFROM:+0000
TZOFFSETTO:+0100
TZNAME:BST
DTSTART:20260329T010000
END:DAYLIGHT
BEGIN:STANDARD
TZOFFSETFROM:+0100
TZOFFSETTO:+0000
TZNAME:GMT
DTSTART:20261025T010000
END:STANDARD
BEGIN:DAYLIGHT
TZOFFSETFROM:+0000
TZOFFSETTO:+0100
TZNAME:BST
DTSTART:20270328T010000
END:DAYLIGHT
BEGIN:STANDARD
TZOFFSETFROM:+0100
TZOFFSETTO:+0000
TZNAME:GMT
DTSTART:20271031T010000
END:STANDARD
END:VTIMEZONE
BEGIN:VEVENT
DTSTART;TZID=Europe/London:20260626T110000
DTEND;TZID=Europe/London:20260626T130000
DTSTAMP:20260423T015643
CREATED:20251125T164957Z
LAST-MODIFIED:20251125T164957Z
UID:10043-1782471600-1782478800@salisbury-afvbc.co.uk
SUMMARY:Brew & Banter
DESCRIPTION:  \nBrew and Banter  will continue to support Karen Langleys “Boots on the Ground” initiative.  Please come along for a Brew and some of Salisburys finest baked goods at a fraction of the price that you will pay in a local coffee house.  Remember all funds raised go to our own supported charity.
URL:https://salisbury-afvbc.co.uk/event/brew-banter-31/
LOCATION:Riverside Santuary\, 2 Watt Road\, Salisbury\, Wiltshire\, SP2 7UD\, United Kingdom
END:VEVENT
BEGIN:VEVENT
DTSTART;TZID=Europe/London:20260701T101500
DTEND;TZID=Europe/London:20260701T123000
DTSTAMP:20260423T015643
CREATED:20251125T171909Z
LAST-MODIFIED:20251125T171909Z
UID:10072-1782900900-1782909000@salisbury-afvbc.co.uk
SUMMARY:Amesbury Brew & Banter
DESCRIPTION:Come and join us for brew and some good banter at the Nicholson centre every Wednesday from 1015hrs.  For a small donation of £2 you can sample some excellent homemade backed goodies and bottomless brews.  All proceeds go to Military Charities
URL:https://salisbury-afvbc.co.uk/event/amesbury-brew-banter-23/
LOCATION:Nicolson Centre\, Stockport Road\, Amesbury\, SP4 0JE\, United Kingdom
END:VEVENT
BEGIN:VEVENT
DTSTART;TZID=Europe/London:20260701T101500
DTEND;TZID=Europe/London:20260701T123000
DTSTAMP:20260423T015643
CREATED:20251125T172609Z
LAST-MODIFIED:20251125T172609Z
UID:10133-1782900900-1782909000@salisbury-afvbc.co.uk
SUMMARY:Amesbury Brew & Banter
DESCRIPTION:Come and join us for brew and some good banter at the Nicholson centre every Wednesday from 1015hrs.  For a small donation of £2 you can sample some excellent homemade backed goodies and bottomless brews.  All proceeds go to Military Charities
URL:https://salisbury-afvbc.co.uk/event/amesbury-brew-banter-28/
LOCATION:Nicolson Centre\, Stockport Road\, Amesbury\, SP4 0JE\, United Kingdom
END:VEVENT
BEGIN:VEVENT
DTSTART;TZID=Europe/London:20260703T110000
DTEND;TZID=Europe/London:20260703T130000
DTSTAMP:20260423T015643
CREATED:20251125T165032Z
LAST-MODIFIED:20251125T165032Z
UID:10042-1783076400-1783083600@salisbury-afvbc.co.uk
SUMMARY:Brew & Banter
DESCRIPTION:  \nBrew and Banter  will continue to support Karen Langleys “Boots on the Ground” initiative.  Please come along for a Brew and some of Salisburys finest baked goods at a fraction of the price that you will pay in a local coffee house.  Remember all funds raised go to our own supported charity.
URL:https://salisbury-afvbc.co.uk/event/brew-banter-32/
LOCATION:Riverside Santuary\, 2 Watt Road\, Salisbury\, Wiltshire\, SP2 7UD\, United Kingdom
END:VEVENT
BEGIN:VEVENT
DTSTART;TZID=Europe/London:20260704T190000
DTEND;TZID=Europe/London:20260704T230000
DTSTAMP:20260423T015643
CREATED:20260408T100152Z
LAST-MODIFIED:20260419T081259Z
UID:10310-1783191600-1783206000@salisbury-afvbc.co.uk
SUMMARY:Somme 110th Anniversary Dinner  Saturday 4 July 2026
DESCRIPTION:0Currently RegisteredMaureen Hansford Noel Howard Dave Barter Carl Stennett ALAN DRAYCOTT Rob Davie Abby Duncan John Manning Kevin Drake Les Smith Steve Williams Bambra Freeman Susan Kilgour Chris Child Ken Millar Steve Ward (guest of Alan Draycott) John Baber Stella Crowe Peter Greatorex Karen Langley Bob (Taff) Bailey Andy Heath John Smith-Enticott  \nMenu\nStarters\n1. Chicken Liver Parfait\, Chutney\, Crostini \n2. Beetroot Salmon Grandlex Dill Cream \n3. Prawn Cocktail \n4. Breaded Mushroom with Mayo (V) \nMains\n5. Breast of Chicken\, Wild Mushroom and Tarragon Cream Sauce \n6. Slow Braised Blade of Beef in Red Wine and Shallot Sauce \n7. Grilled Fillet of Cod Herb Crust Sauce \n8. Roasted Courgette\, Mediterranean Veg and sauce (V) \nDesserts\n9. Sticky Toffee Pudding and Vanilla Ice Cream \n10. Strawberry Eton Mess \n11. Vanilla and Salted Caramel Cheesecake\, Ice Cream \n12. Hazel and Chocolate Mousse \n  \nClick the button to Pay\nAbout this event Click here
URL:https://salisbury-afvbc.co.uk/event/somme-110th-anniversary-dinner-saturday-4-july-2026/
LOCATION:Mercure White Hart Hotel\, 1 St John's Street\, Salisbury\, Wilthsire\, SP1 2SD\, United Kingdom
END:VEVENT
BEGIN:VEVENT
DTSTART;TZID=Europe/London:20260708T101500
DTEND;TZID=Europe/London:20260708T123000
DTSTAMP:20260423T015643
CREATED:20251125T172638Z
LAST-MODIFIED:20251125T172638Z
UID:10132-1783505700-1783513800@salisbury-afvbc.co.uk
SUMMARY:Amesbury Brew & Banter
DESCRIPTION:Come and join us for brew and some good banter at the Nicholson centre every Wednesday from 1015hrs.  For a small donation of £2 you can sample some excellent homemade backed goodies and bottomless brews.  All proceeds go to Military Charities
URL:https://salisbury-afvbc.co.uk/event/amesbury-brew-banter-29/
LOCATION:Nicolson Centre\, Stockport Road\, Amesbury\, SP4 0JE\, United Kingdom
END:VEVENT
BEGIN:VEVENT
DTSTART;TZID=Europe/London:20260710T110000
DTEND;TZID=Europe/London:20260710T130000
DTSTAMP:20260423T015643
CREATED:20251125T165128Z
LAST-MODIFIED:20251125T165128Z
UID:10041-1783681200-1783688400@salisbury-afvbc.co.uk
SUMMARY:Brew & Banter
DESCRIPTION:  \nBrew and Banter  will continue to support Karen Langleys “Boots on the Ground” initiative.  Please come along for a Brew and some of Salisburys finest baked goods at a fraction of the price that you will pay in a local coffee house.  Remember all funds raised go to our own supported charity.
URL:https://salisbury-afvbc.co.uk/event/brew-banter-33/
LOCATION:Riverside Santuary\, 2 Watt Road\, Salisbury\, Wiltshire\, SP2 7UD\, United Kingdom
END:VEVENT
BEGIN:VEVENT
DTSTART;TZID=Europe/London:20260712T093000
DTEND;TZID=Europe/London:20260712T113000
DTSTAMP:20260423T015643
CREATED:20251121T164610Z
LAST-MODIFIED:20251121T164610Z
UID:9942-1783848600-1783855800@salisbury-afvbc.co.uk
SUMMARY:Breakfast - The White Hart - 12 July 2026
DESCRIPTION:Currently Registered\n				Be the first! \n			\n			\n \n\nAn excellent breakfast in the hart of Salisbury.  Coffee is served from 0930hrs\, which is a great chance to meet new people and catch up with friends.  Dress is very relaxed or as formal as you like! \nPlease pay at reception as you enter and obtain a ticket
URL:https://salisbury-afvbc.co.uk/event/breakfast-the-white-hart-12-july-2026/
LOCATION:Mercure White Hart Hotel\, 1 St John's Street\, Salisbury\, Wilthsire\, SP1 2SD\, United Kingdom
CATEGORIES:AFVBC Breakfast
END:VEVENT
BEGIN:VEVENT
DTSTART;TZID=Europe/London:20260715T090000
DTEND;TZID=Europe/London:20260715T230000
DTSTAMP:20260423T015643
CREATED:20251125T145249Z
LAST-MODIFIED:20251125T145249Z
UID:9973-1784106000-1784156400@salisbury-afvbc.co.uk
SUMMARY:Breakfast in Chapters - 15 July 2026
DESCRIPTION:Come and join us for Breakfast in Chapters Bistro\, although this is the homeowners Bistro\, it is open for AFVBC members to attend the monthly breakfast held on the third Wednesday of the month
URL:https://salisbury-afvbc.co.uk/event/breakfast-in-chapters-15-july-2026/
LOCATION:Chapters Bistro\, Off Fountain way\, Wilton Road\, Salsibury\, SP2 7EP\, United Kingdom
END:VEVENT
BEGIN:VEVENT
DTSTART;TZID=Europe/London:20260715T101500
DTEND;TZID=Europe/London:20260715T123000
DTSTAMP:20260423T015643
CREATED:20251125T172703Z
LAST-MODIFIED:20251125T172703Z
UID:10131-1784110500-1784118600@salisbury-afvbc.co.uk
SUMMARY:Amesbury Brew & Banter
DESCRIPTION:Come and join us for brew and some good banter at the Nicholson centre every Wednesday from 1015hrs.  For a small donation of £2 you can sample some excellent homemade backed goodies and bottomless brews.  All proceeds go to Military Charities
URL:https://salisbury-afvbc.co.uk/event/amesbury-brew-banter-30/
LOCATION:Nicolson Centre\, Stockport Road\, Amesbury\, SP4 0JE\, United Kingdom
END:VEVENT
BEGIN:VEVENT
DTSTART;TZID=Europe/London:20260717T110000
DTEND;TZID=Europe/London:20260717T130000
DTSTAMP:20260423T015643
CREATED:20251125T165158Z
LAST-MODIFIED:20251125T165158Z
UID:10040-1784286000-1784293200@salisbury-afvbc.co.uk
SUMMARY:Brew & Banter
DESCRIPTION:  \nBrew and Banter  will continue to support Karen Langleys “Boots on the Ground” initiative.  Please come along for a Brew and some of Salisburys finest baked goods at a fraction of the price that you will pay in a local coffee house.  Remember all funds raised go to our own supported charity.
URL:https://salisbury-afvbc.co.uk/event/brew-banter-34/
LOCATION:Riverside Santuary\, 2 Watt Road\, Salisbury\, Wiltshire\, SP2 7UD\, United Kingdom
END:VEVENT
BEGIN:VEVENT
DTSTART;TZID=Europe/London:20260718T063000
DTEND;TZID=Europe/London:20260718T150000
DTSTAMP:20260423T015643
CREATED:20251125T182130Z
LAST-MODIFIED:20251125T182130Z
UID:10226-1784356200-1784386800@salisbury-afvbc.co.uk
SUMMARY:Field Kitchen at the Charter Market - 18 July 2026
DESCRIPTION:  \n  \n  \n  \n  \n  \n  \nAlong with the ABF book stall\, we will have quite a presence in that right hand corner.  Remember every penny these guys and girls raise for doing this throughout the year\, goes into our AFVBC for your benefit\, bringing you everything from subsidised Summer balls to Christmas balls and trips etc etc. Please do come along\, support them and say hello!
URL:https://salisbury-afvbc.co.uk/event/field-kitchen-at-the-charter-market-18-july-2026/
LOCATION:Salisbury Market Square\, The Guildhall Market Place\, Salsibury\, Wiltsire\, SP1 1JH\, United Kingdom
END:VEVENT
BEGIN:VEVENT
DTSTART;TZID=Europe/London:20260724T110000
DTEND;TZID=Europe/London:20260724T130000
DTSTAMP:20260423T015643
CREATED:20251125T174614Z
LAST-MODIFIED:20251125T174614Z
UID:10188-1784890800-1784898000@salisbury-afvbc.co.uk
SUMMARY:Brew & Banter
DESCRIPTION:  \nBrew and Banter  will continue to support Karen Langleys “Boots on the Ground” initiative.  Please come along for a Brew and some of Salisburys finest baked goods at a fraction of the price that you will pay in a local coffee house.  Remember all funds raised go to our own supported charity.
URL:https://salisbury-afvbc.co.uk/event/brew-banter-35/
LOCATION:Riverside Santuary\, 2 Watt Road\, Salisbury\, Wiltshire\, SP2 7UD\, United Kingdom
END:VEVENT
BEGIN:VEVENT
DTSTART;TZID=Europe/London:20260729T101500
DTEND;TZID=Europe/London:20260729T123000
DTSTAMP:20260423T015643
CREATED:20251125T172742Z
LAST-MODIFIED:20251125T172742Z
UID:10130-1785320100-1785328200@salisbury-afvbc.co.uk
SUMMARY:Amesbury Brew & Banter
DESCRIPTION:Come and join us for brew and some good banter at the Nicholson centre every Wednesday from 1015hrs.  For a small donation of £2 you can sample some excellent homemade backed goodies and bottomless brews.  All proceeds go to Military Charities
URL:https://salisbury-afvbc.co.uk/event/amesbury-brew-banter-31/
LOCATION:Nicolson Centre\, Stockport Road\, Amesbury\, SP4 0JE\, United Kingdom
END:VEVENT
BEGIN:VEVENT
DTSTART;TZID=Europe/London:20260731T110000
DTEND;TZID=Europe/London:20260731T130000
DTSTAMP:20260423T015643
CREATED:20251125T174659Z
LAST-MODIFIED:20251125T174659Z
UID:10187-1785495600-1785502800@salisbury-afvbc.co.uk
SUMMARY:Brew & Banter
DESCRIPTION:  \nBrew and Banter  will continue to support Karen Langleys “Boots on the Ground” initiative.  Please come along for a Brew and some of Salisburys finest baked goods at a fraction of the price that you will pay in a local coffee house.  Remember all funds raised go to our own supported charity.
URL:https://salisbury-afvbc.co.uk/event/brew-banter-36/
LOCATION:Riverside Santuary\, 2 Watt Road\, Salisbury\, Wiltshire\, SP2 7UD\, United Kingdom
END:VEVENT
BEGIN:VEVENT
DTSTART;TZID=Europe/London:20260805T101500
DTEND;TZID=Europe/London:20260805T123000
DTSTAMP:20260423T015643
CREATED:20251125T172810Z
LAST-MODIFIED:20251125T172810Z
UID:10129-1785924900-1785933000@salisbury-afvbc.co.uk
SUMMARY:Amesbury Brew & Banter
DESCRIPTION:Come and join us for brew and some good banter at the Nicholson centre every Wednesday from 1015hrs.  For a small donation of £2 you can sample some excellent homemade backed goodies and bottomless brews.  All proceeds go to Military Charities
URL:https://salisbury-afvbc.co.uk/event/amesbury-brew-banter-32/
LOCATION:Nicolson Centre\, Stockport Road\, Amesbury\, SP4 0JE\, United Kingdom
END:VEVENT
BEGIN:VEVENT
DTSTART;TZID=Europe/London:20260807T110000
DTEND;TZID=Europe/London:20260807T130000
DTSTAMP:20260423T015643
CREATED:20251125T174734Z
LAST-MODIFIED:20251125T174734Z
UID:10186-1786100400-1786107600@salisbury-afvbc.co.uk
SUMMARY:Brew & Banter
DESCRIPTION:  \nBrew and Banter  will continue to support Karen Langleys “Boots on the Ground” initiative.  Please come along for a Brew and some of Salisburys finest baked goods at a fraction of the price that you will pay in a local coffee house.  Remember all funds raised go to our own supported charity.
URL:https://salisbury-afvbc.co.uk/event/brew-banter-37/
LOCATION:Riverside Santuary\, 2 Watt Road\, Salisbury\, Wiltshire\, SP2 7UD\, United Kingdom
END:VEVENT
BEGIN:VEVENT
DTSTART;TZID=Europe/London:20260809T093000
DTEND;TZID=Europe/London:20260809T113000
DTSTAMP:20260423T015643
CREATED:20251121T164723Z
LAST-MODIFIED:20251121T164723Z
UID:9943-1786267800-1786275000@salisbury-afvbc.co.uk
SUMMARY:Breakfast - The White Hart - 12 August 2026
DESCRIPTION:Currently Registered\n				Be the first! \n			\n			\n \n\nAn excellent breakfast in the hart of Salisbury.  Coffee is served from 0930hrs\, which is a great chance to meet new people and catch up with friends.  Dress is very relaxed or as formal as you like! \nPlease pay at reception as you enter and obtain a ticket
URL:https://salisbury-afvbc.co.uk/event/breakfast-the-white-hart-12-august-2026/
LOCATION:Mercure White Hart Hotel\, 1 St John's Street\, Salisbury\, Wilthsire\, SP1 2SD\, United Kingdom
CATEGORIES:AFVBC Breakfast
END:VEVENT
BEGIN:VEVENT
DTSTART;TZID=Europe/London:20260812T101500
DTEND;TZID=Europe/London:20260812T123000
DTSTAMP:20260423T015643
CREATED:20251125T172901Z
LAST-MODIFIED:20251125T172901Z
UID:10128-1786529700-1786537800@salisbury-afvbc.co.uk
SUMMARY:Amesbury Brew & Banter
DESCRIPTION:Come and join us for brew and some good banter at the Nicholson centre every Wednesday from 1015hrs.  For a small donation of £2 you can sample some excellent homemade backed goodies and bottomless brews.  All proceeds go to Military Charities
URL:https://salisbury-afvbc.co.uk/event/amesbury-brew-banter-33/
LOCATION:Nicolson Centre\, Stockport Road\, Amesbury\, SP4 0JE\, United Kingdom
END:VEVENT
BEGIN:VEVENT
DTSTART;TZID=Europe/London:20260814T110000
DTEND;TZID=Europe/London:20260814T130000
DTSTAMP:20260423T015643
CREATED:20251125T174801Z
LAST-MODIFIED:20251125T174801Z
UID:10185-1786705200-1786712400@salisbury-afvbc.co.uk
SUMMARY:Brew & Banter
DESCRIPTION:  \nBrew and Banter  will continue to support Karen Langleys “Boots on the Ground” initiative.  Please come along for a Brew and some of Salisburys finest baked goods at a fraction of the price that you will pay in a local coffee house.  Remember all funds raised go to our own supported charity.
URL:https://salisbury-afvbc.co.uk/event/brew-banter-38/
LOCATION:Riverside Santuary\, 2 Watt Road\, Salisbury\, Wiltshire\, SP2 7UD\, United Kingdom
END:VEVENT
BEGIN:VEVENT
DTSTART;TZID=Europe/London:20260819T090000
DTEND;TZID=Europe/London:20260819T230000
DTSTAMP:20260423T015643
CREATED:20251125T145401Z
LAST-MODIFIED:20251125T145447Z
UID:9974-1787130000-1787180400@salisbury-afvbc.co.uk
SUMMARY:Breakfast in Chapters - 19 August 2026
DESCRIPTION:Come and join us for Breakfast in Chapters Bistro\, although this is the homeowners Bistro\, it is open for AFVBC members to attend the monthly breakfast held on the third Wednesday of the month
URL:https://salisbury-afvbc.co.uk/event/breakfast-in-chapters-19-august-2026/
LOCATION:Chapters Bistro\, Off Fountain way\, Wilton Road\, Salsibury\, SP2 7EP\, United Kingdom
END:VEVENT
BEGIN:VEVENT
DTSTART;TZID=Europe/London:20260819T101500
DTEND;TZID=Europe/London:20260819T123000
DTSTAMP:20260423T015643
CREATED:20251125T173007Z
LAST-MODIFIED:20251125T173007Z
UID:10127-1787134500-1787142600@salisbury-afvbc.co.uk
SUMMARY:Amesbury Brew & Banter
DESCRIPTION:Come and join us for brew and some good banter at the Nicholson centre every Wednesday from 1015hrs.  For a small donation of £2 you can sample some excellent homemade backed goodies and bottomless brews.  All proceeds go to Military Charities
URL:https://salisbury-afvbc.co.uk/event/amesbury-brew-banter-34/
LOCATION:Nicolson Centre\, Stockport Road\, Amesbury\, SP4 0JE\, United Kingdom
END:VEVENT
BEGIN:VEVENT
DTSTART;TZID=Europe/London:20260821T110000
DTEND;TZID=Europe/London:20260821T130000
DTSTAMP:20260423T015643
CREATED:20251125T174832Z
LAST-MODIFIED:20251125T174832Z
UID:10184-1787310000-1787317200@salisbury-afvbc.co.uk
SUMMARY:Brew & Banter
DESCRIPTION:  \nBrew and Banter  will continue to support Karen Langleys “Boots on the Ground” initiative.  Please come along for a Brew and some of Salisburys finest baked goods at a fraction of the price that you will pay in a local coffee house.  Remember all funds raised go to our own supported charity.
URL:https://salisbury-afvbc.co.uk/event/brew-banter-39/
LOCATION:Riverside Santuary\, 2 Watt Road\, Salisbury\, Wiltshire\, SP2 7UD\, United Kingdom
END:VEVENT
BEGIN:VEVENT
DTSTART;TZID=Europe/London:20260826T101500
DTEND;TZID=Europe/London:20260826T123000
DTSTAMP:20260423T015643
CREATED:20251125T173037Z
LAST-MODIFIED:20251125T173037Z
UID:10126-1787739300-1787747400@salisbury-afvbc.co.uk
SUMMARY:Amesbury Brew & Banter
DESCRIPTION:Come and join us for brew and some good banter at the Nicholson centre every Wednesday from 1015hrs.  For a small donation of £2 you can sample some excellent homemade backed goodies and bottomless brews.  All proceeds go to Military Charities
URL:https://salisbury-afvbc.co.uk/event/amesbury-brew-banter-35/
LOCATION:Nicolson Centre\, Stockport Road\, Amesbury\, SP4 0JE\, United Kingdom
END:VEVENT
BEGIN:VEVENT
DTSTART;TZID=Europe/London:20260828T110000
DTEND;TZID=Europe/London:20260828T130000
DTSTAMP:20260423T015643
CREATED:20251125T174910Z
LAST-MODIFIED:20251125T174910Z
UID:10183-1787914800-1787922000@salisbury-afvbc.co.uk
SUMMARY:Brew & Banter
DESCRIPTION:  \nBrew and Banter  will continue to support Karen Langleys “Boots on the Ground” initiative.  Please come along for a Brew and some of Salisburys finest baked goods at a fraction of the price that you will pay in a local coffee house.  Remember all funds raised go to our own supported charity.
URL:https://salisbury-afvbc.co.uk/event/brew-banter-40/
LOCATION:Riverside Santuary\, 2 Watt Road\, Salisbury\, Wiltshire\, SP2 7UD\, United Kingdom
END:VEVENT
BEGIN:VEVENT
DTSTART;TZID=Europe/London:20260902T101500
DTEND;TZID=Europe/London:20260902T123000
DTSTAMP:20260423T015643
CREATED:20251125T173106Z
LAST-MODIFIED:20251125T173106Z
UID:10125-1788344100-1788352200@salisbury-afvbc.co.uk
SUMMARY:Amesbury Brew & Banter
DESCRIPTION:Come and join us for brew and some good banter at the Nicholson centre every Wednesday from 1015hrs.  For a small donation of £2 you can sample some excellent homemade backed goodies and bottomless brews.  All proceeds go to Military Charities
URL:https://salisbury-afvbc.co.uk/event/amesbury-brew-banter-36/
LOCATION:Nicolson Centre\, Stockport Road\, Amesbury\, SP4 0JE\, United Kingdom
END:VEVENT
BEGIN:VEVENT
DTSTART;TZID=Europe/London:20260904T110000
DTEND;TZID=Europe/London:20260904T130000
DTSTAMP:20260423T015643
CREATED:20251125T174958Z
LAST-MODIFIED:20251125T174958Z
UID:10182-1788519600-1788526800@salisbury-afvbc.co.uk
SUMMARY:Brew & Banter
DESCRIPTION:  \nBrew and Banter  will continue to support Karen Langleys “Boots on the Ground” initiative.  Please come along for a Brew and some of Salisburys finest baked goods at a fraction of the price that you will pay in a local coffee house.  Remember all funds raised go to our own supported charity.
URL:https://salisbury-afvbc.co.uk/event/brew-banter-41/
LOCATION:Riverside Santuary\, 2 Watt Road\, Salisbury\, Wiltshire\, SP2 7UD\, United Kingdom
END:VEVENT
BEGIN:VEVENT
DTSTART;TZID=Europe/London:20260909T101500
DTEND;TZID=Europe/London:20260909T123000
DTSTAMP:20260423T015643
CREATED:20251125T173135Z
LAST-MODIFIED:20251125T173135Z
UID:10124-1788948900-1788957000@salisbury-afvbc.co.uk
SUMMARY:Amesbury Brew & Banter
DESCRIPTION:Come and join us for brew and some good banter at the Nicholson centre every Wednesday from 1015hrs.  For a small donation of £2 you can sample some excellent homemade backed goodies and bottomless brews.  All proceeds go to Military Charities
URL:https://salisbury-afvbc.co.uk/event/amesbury-brew-banter-37/
LOCATION:Nicolson Centre\, Stockport Road\, Amesbury\, SP4 0JE\, United Kingdom
END:VEVENT
BEGIN:VEVENT
DTSTART;TZID=Europe/London:20260911T110000
DTEND;TZID=Europe/London:20260911T130000
DTSTAMP:20260423T015643
CREATED:20251125T175029Z
LAST-MODIFIED:20251125T175029Z
UID:10181-1789124400-1789131600@salisbury-afvbc.co.uk
SUMMARY:Brew & Banter
DESCRIPTION:  \nBrew and Banter  will continue to support Karen Langleys “Boots on the Ground” initiative.  Please come along for a Brew and some of Salisburys finest baked goods at a fraction of the price that you will pay in a local coffee house.  Remember all funds raised go to our own supported charity.
URL:https://salisbury-afvbc.co.uk/event/brew-banter-42/
LOCATION:Riverside Santuary\, 2 Watt Road\, Salisbury\, Wiltshire\, SP2 7UD\, United Kingdom
END:VEVENT
BEGIN:VEVENT
DTSTART;TZID=Europe/London:20260913T093000
DTEND;TZID=Europe/London:20260913T113000
DTSTAMP:20260423T015643
CREATED:20251121T164830Z
LAST-MODIFIED:20251121T164830Z
UID:9944-1789291800-1789299000@salisbury-afvbc.co.uk
SUMMARY:Breakfast - The White Hart - 12 September 2026
DESCRIPTION:Currently Registered\n				Be the first! \n			\n			\n \n\nAn excellent breakfast in the hart of Salisbury.  Coffee is served from 0930hrs\, which is a great chance to meet new people and catch up with friends.  Dress is very relaxed or as formal as you like! \nPlease pay at reception as you enter and obtain a ticket
URL:https://salisbury-afvbc.co.uk/event/breakfast-the-white-hart-12-september-2026/
LOCATION:Mercure White Hart Hotel\, 1 St John's Street\, Salisbury\, Wilthsire\, SP1 2SD\, United Kingdom
CATEGORIES:AFVBC Breakfast
END:VEVENT
END:VCALENDAR