BEGIN:VCALENDAR
VERSION:2.0
PRODID:-//Salisbury &amp; Amesbury AFVBC - ECPv6.15.20//NONSGML v1.0//EN
CALSCALE:GREGORIAN
METHOD:PUBLISH
X-WR-CALNAME:Salisbury &amp; Amesbury AFVBC
X-ORIGINAL-URL:https://salisbury-afvbc.co.uk
X-WR-CALDESC:Events for Salisbury &amp; Amesbury AFVBC
REFRESH-INTERVAL;VALUE=DURATION:PT1H
X-Robots-Tag:noindex
X-PUBLISHED-TTL:PT1H
BEGIN:VTIMEZONE
TZID:Europe/London
BEGIN:DAYLIGHT
TZOFFSETFROM:+0000
TZOFFSETTO:+0100
TZNAME:BST
DTSTART:20240331T010000
END:DAYLIGHT
BEGIN:STANDARD
TZOFFSETFROM:+0100
TZOFFSETTO:+0000
TZNAME:GMT
DTSTART:20241027T010000
END:STANDARD
BEGIN:DAYLIGHT
TZOFFSETFROM:+0000
TZOFFSETTO:+0100
TZNAME:BST
DTSTART:20250330T010000
END:DAYLIGHT
BEGIN:STANDARD
TZOFFSETFROM:+0100
TZOFFSETTO:+0000
TZNAME:GMT
DTSTART:20251026T010000
END:STANDARD
BEGIN:DAYLIGHT
TZOFFSETFROM:+0000
TZOFFSETTO:+0100
TZNAME:BST
DTSTART:20260329T010000
END:DAYLIGHT
BEGIN:STANDARD
TZOFFSETFROM:+0100
TZOFFSETTO:+0000
TZNAME:GMT
DTSTART:20261025T010000
END:STANDARD
END:VTIMEZONE
BEGIN:VEVENT
DTSTART;TZID=Europe/London:20251012T093000
DTEND;TZID=Europe/London:20251012T113000
DTSTAMP:20260423T083138
CREATED:20250106T154646Z
LAST-MODIFIED:20251009T090357Z
UID:9008-1760261400-1760268600@salisbury-afvbc.co.uk
SUMMARY:Breakfast - The White Hart - 12 October
DESCRIPTION:Currently RegisteredPhil Budd \n \n\nAn excellent breakfast in the hart of Salisbury.  Coffee is served from 0930hrs\, which is a great chance to meet new people and catch up with friends.  Dress is very relaxed or as formal as you like! \nPlease pay at reception as you enter and obtain a ticket
URL:https://salisbury-afvbc.co.uk/event/breakfast-the-white-hart-12-october/
LOCATION:Mercure White Hart Hotel\, 1 St John's Street\, Salisbury\, Wilthsire\, SP1 2SD\, United Kingdom
CATEGORIES:AFVBC Breakfast
END:VEVENT
BEGIN:VEVENT
DTSTART;TZID=Europe/London:20251012T093000
DTEND;TZID=Europe/London:20251012T113000
DTSTAMP:20260423T083138
CREATED:20250816T065240Z
LAST-MODIFIED:20251001T200319Z
UID:9604-1760261400-1760268600@salisbury-afvbc.co.uk
SUMMARY:Breakfast - Venue TBC - 12 October 2025
DESCRIPTION:You are now required to pay prior to the event\, there will NOT be any provision to pay on the day.  Refund requests without 3 full working days prior to the event will not be accepted
URL:https://salisbury-afvbc.co.uk/event/breakfast-the-stones-hotel-12-october-2025/
LOCATION:The Stones Hotel\, Highpost\, SP4 6AT\, United Kingdom
CATEGORIES:AFVBC Breakfast
END:VEVENT
BEGIN:VEVENT
DTSTART;TZID=Europe/London:20251015T090000
DTEND;TZID=Europe/London:20251015T230000
DTSTAMP:20260423T083138
CREATED:20250106T164605Z
LAST-MODIFIED:20250106T164605Z
UID:9055-1760518800-1760569200@salisbury-afvbc.co.uk
SUMMARY:Breakfast in Chapters - 15 October
DESCRIPTION:Chapters Communal Areas \nCome and join us for Breakfast in Chapters Bistro\, although this is the homeowners Bistro\, it is open for AFVBC members to attend the monthly breakfast held on the third Wednesday of the month
URL:https://salisbury-afvbc.co.uk/event/breakfast-in-chapters-15-october/
LOCATION:Chapters Bistro\, Off Fountain way\, Wilton Road\, Salsibury\, SP2 7EP\, United Kingdom
END:VEVENT
BEGIN:VEVENT
DTSTART;TZID=Europe/London:20251015T101500
DTEND;TZID=Europe/London:20251015T123000
DTSTAMP:20260423T083138
CREATED:20250106T181307Z
LAST-MODIFIED:20250106T181307Z
UID:9259-1760523300-1760531400@salisbury-afvbc.co.uk
SUMMARY:Amesbury Brew & Banter
DESCRIPTION:Come and join us for brew and some good banter at the Nicholson centre every Wednesday from 1015hrs.  For a small donation of £2 you can sample some excellent homemade backed goodies and bottomless brews.  All proceeds go to Military Charities
URL:https://salisbury-afvbc.co.uk/event/amesbury-brew-banter-106/
LOCATION:Nicolson Centre\, Stockport Road\, Amesbury\, SP4 0JE\, United Kingdom
END:VEVENT
BEGIN:VEVENT
DTSTART;TZID=Europe/London:20251017T110000
DTEND;TZID=Europe/London:20251017T130000
DTSTAMP:20260423T083138
CREATED:20250106T175128Z
LAST-MODIFIED:20250106T175128Z
UID:9187-1760698800-1760706000@salisbury-afvbc.co.uk
SUMMARY:Brew & Banter
DESCRIPTION:  \nBrew and Banter  will continue to support Karen Langleys “Boots on the Ground” initiative.  Please come along for a Brew and some of Salisburys finest baked goods at a fraction of the price that you will pay in a local coffee house.  Remember all funds raised go to our own supported charity.
URL:https://salisbury-afvbc.co.uk/event/brew-banter-124/
LOCATION:Riverside Santuary\, 2 Watt Road\, Salisbury\, Wiltshire\, SP2 7UD\, United Kingdom
END:VEVENT
BEGIN:VEVENT
DTSTART;TZID=Europe/London:20251018T063000
DTEND;TZID=Europe/London:20251018T150000
DTSTAMP:20260423T083138
CREATED:20250107T172441Z
LAST-MODIFIED:20250107T172441Z
UID:9287-1760769000-1760799600@salisbury-afvbc.co.uk
SUMMARY:Field Kitchen at the Charter Market - 18 October
DESCRIPTION:Along with the ABF book stall\, we will have quite a presence in that right hand corner.  Remember every penny these guys and girls raise for doing this throughout the year\, goes into our AFVBC for your benefit\, bringing you everything from subsidised Summer balls to Christmas balls and trips etc etc. Please do come along\, support them and say hello!
URL:https://salisbury-afvbc.co.uk/event/field-kitchen-at-the-charter-market-18-october/
LOCATION:Salisbury Market Square\, The Guildhall Market Place\, Salsibury\, Wiltsire\, SP1 1JH\, United Kingdom
END:VEVENT
BEGIN:VEVENT
DTSTART;TZID=Europe/London:20251018T190000
DTEND;TZID=Europe/London:20251018T233000
DTSTAMP:20260423T083138
CREATED:20250819T193137Z
LAST-MODIFIED:20250819T193515Z
UID:9639-1760814000-1760830200@salisbury-afvbc.co.uk
SUMMARY:RNA Salisbury - TRAFLAGAR NIGHT - 18 October
DESCRIPTION:  \n \nStarters\n1. Red Pepper and Roasted Tomato Soup\, Basil Pesto  \n2.  Serrano Ham with Fig and Mozzarella Salad\, Fig Glaze  \n3.  Salmon and Cod Fishcake\, Cucumber Salad and Lime \n4.  Trio of Melon with Mango Sorbet \nMains\n5.  Beef Wellington with Mushroom Duxelle\, Port Wine Sauce \n6.  Breast of Chicken with a Wild Mushroom and Tarragon Cream Sauce \n7.  Grilled Fillet of Cod\, Herb Crumb and Lemon Butter Sauce \n8.  Roasted Courgette filled with Mediterranean Vegetables\, \nGlazed with Mozzarella\, Tomato Sauce \nDessert\n9.  Ships of the Line with Cream \nCheese\n10.  Selection of Cheese\, Grapes\, Celery and Biscuits \nTo Finish\nCoffee and Canon Balls \nPlease select your starter and main course and return with your acceptance to the dinner \nIf you have special requirements or allergies please contact Sarah at the hotel
URL:https://salisbury-afvbc.co.uk/event/rna-salisbury-traflagar-night-18-october/
LOCATION:Mercure White Hart Hotel\, 1 St John's Street\, Salisbury\, Wilthsire\, SP1 2SD\, United Kingdom
ORGANIZER;CN="Craig 'Taff' Shannon":MAILTO:ViceChairmanSalisburyRNA@outlook.com
END:VEVENT
BEGIN:VEVENT
DTSTART;TZID=Europe/London:20251019T123000
DTEND;TZID=Europe/London:20251019T153000
DTSTAMP:20260423T083138
CREATED:20250106T152409Z
LAST-MODIFIED:20251015T164030Z
UID:8983-1760877000-1760887800@salisbury-afvbc.co.uk
SUMMARY:Sunday Lunch at The White Hart - 19 October
DESCRIPTION:Currently RegisteredPhil Rood Bambra Freeman Alex Chalmers John Smith-Enticott Terence McLaren-Shepherd Sheila Gartside Andy Heath Steve Williams Andy McCafferty Don Baggett Karen Langley Peter Greatorex Stella Crowe Robert (Taff) Bailey Les Smith W Noel Roberts Jackie Clark Phil Budd  \n  \nSunday 19th October 2025\nStarters\n1. Butternut Squash and Coconut Soup \n2.  Chicken Liver Parfait\, Cranberry Jelly\, Crostini \n3.  Parmesan and Mushroom Tartlet\, Dressed Rocket \n4.  Prawn and Cucumber Salad with Marie Rose Dressing \nMains\n5.  Roast Sirloin of Beef and Yorkshire Puddin \n6.  Breast of Chicken with Stuffing and Pigs in Blanket \n7.  Fillet of Sea Bass with Prawn Sauce \n8.  Baked Aubergine filled with Ratatouille\, Pesto Cream Sauce \nDesserts\n9.  Treacle Tart with Clotted Cream \n10. Vanilla and Salted Caramel Cheesecake\, Salted Caramel Ice-cream \n11.  Raspberry Eton Mess \n12.  Profiteroles with chocolate Sauce \nTo finish\nCoffee and chocolates  \nPay Here \n2 COURSES with COFFEE and CHOCOLATES – £22.71 \n3 COURSES with COFFEE and CHOCOLATES – £28.43
URL:https://salisbury-afvbc.co.uk/event/sunday-lunch-at-the-white-hart-19-october/
LOCATION:Mercure White Hart Hotel\, 1 St John's Street\, Salisbury\, Wilthsire\, SP1 2SD\, United Kingdom
CATEGORIES:Sunday Lunch
ATTACH;FMTTYPE=image/jpeg:https://salisbury-afvbc.co.uk/wp-content/uploads/2021/08/SundayLunch1.jpg
ORGANIZER;CN="John Smith-Enticott":MAILTO:Bagpuss.50@btinternet.com
END:VEVENT
BEGIN:VEVENT
DTSTART;TZID=Europe/London:20251022T101500
DTEND;TZID=Europe/London:20251022T123000
DTSTAMP:20260423T083138
CREATED:20250106T181341Z
LAST-MODIFIED:20250106T181341Z
UID:9258-1761128100-1761136200@salisbury-afvbc.co.uk
SUMMARY:Amesbury Brew & Banter
DESCRIPTION:Come and join us for brew and some good banter at the Nicholson centre every Wednesday from 1015hrs.  For a small donation of £2 you can sample some excellent homemade backed goodies and bottomless brews.  All proceeds go to Military Charities
URL:https://salisbury-afvbc.co.uk/event/amesbury-brew-banter-107/
LOCATION:Nicolson Centre\, Stockport Road\, Amesbury\, SP4 0JE\, United Kingdom
END:VEVENT
BEGIN:VEVENT
DTSTART;TZID=Europe/London:20251024T110000
DTEND;TZID=Europe/London:20251024T130000
DTSTAMP:20260423T083138
CREATED:20250106T175202Z
LAST-MODIFIED:20250106T175202Z
UID:9186-1761303600-1761310800@salisbury-afvbc.co.uk
SUMMARY:Brew & Banter
DESCRIPTION:  \nBrew and Banter  will continue to support Karen Langleys “Boots on the Ground” initiative.  Please come along for a Brew and some of Salisburys finest baked goods at a fraction of the price that you will pay in a local coffee house.  Remember all funds raised go to our own supported charity.
URL:https://salisbury-afvbc.co.uk/event/brew-banter-125/
LOCATION:Riverside Santuary\, 2 Watt Road\, Salisbury\, Wiltshire\, SP2 7UD\, United Kingdom
END:VEVENT
BEGIN:VEVENT
DTSTART;TZID=Europe/London:20251029T101500
DTEND;TZID=Europe/London:20251029T123000
DTSTAMP:20260423T083138
CREATED:20250106T181412Z
LAST-MODIFIED:20250106T181412Z
UID:9257-1761732900-1761741000@salisbury-afvbc.co.uk
SUMMARY:Amesbury Brew & Banter
DESCRIPTION:Come and join us for brew and some good banter at the Nicholson centre every Wednesday from 1015hrs.  For a small donation of £2 you can sample some excellent homemade backed goodies and bottomless brews.  All proceeds go to Military Charities
URL:https://salisbury-afvbc.co.uk/event/amesbury-brew-banter-108/
LOCATION:Nicolson Centre\, Stockport Road\, Amesbury\, SP4 0JE\, United Kingdom
END:VEVENT
BEGIN:VEVENT
DTSTART;TZID=Europe/London:20251105T101500
DTEND;TZID=Europe/London:20251105T123000
DTSTAMP:20260423T083138
CREATED:20250106T181438Z
LAST-MODIFIED:20250106T181438Z
UID:9256-1762337700-1762345800@salisbury-afvbc.co.uk
SUMMARY:Amesbury Brew & Banter
DESCRIPTION:Come and join us for brew and some good banter at the Nicholson centre every Wednesday from 1015hrs.  For a small donation of £2 you can sample some excellent homemade backed goodies and bottomless brews.  All proceeds go to Military Charities
URL:https://salisbury-afvbc.co.uk/event/amesbury-brew-banter-109/
LOCATION:Nicolson Centre\, Stockport Road\, Amesbury\, SP4 0JE\, United Kingdom
END:VEVENT
BEGIN:VEVENT
DTSTART;TZID=Europe/London:20251107T110000
DTEND;TZID=Europe/London:20251107T130000
DTSTAMP:20260423T083138
CREATED:20250106T175237Z
LAST-MODIFIED:20250106T175301Z
UID:9185-1762513200-1762520400@salisbury-afvbc.co.uk
SUMMARY:Brew & Banter
DESCRIPTION:  \nBrew and Banter  will continue to support Karen Langleys “Boots on the Ground” initiative.  Please come along for a Brew and some of Salisburys finest baked goods at a fraction of the price that you will pay in a local coffee house.  Remember all funds raised go to our own supported charity.
URL:https://salisbury-afvbc.co.uk/event/brew-banter-126/
LOCATION:Riverside Santuary\, 2 Watt Road\, Salisbury\, Wiltshire\, SP2 7UD\, United Kingdom
END:VEVENT
BEGIN:VEVENT
DTSTART;TZID=Europe/London:20251108T063000
DTEND;TZID=Europe/London:20251108T150000
DTSTAMP:20260423T083138
CREATED:20250107T172527Z
LAST-MODIFIED:20251104T220412Z
UID:9286-1762583400-1762614000@salisbury-afvbc.co.uk
SUMMARY:Field Kitchen at the Charter Market - 08 November
DESCRIPTION:Along with the ABF book stall\, we will have quite a presence in that right hand corner.  Remember every penny these guys and girls raise for doing this throughout the year\, goes into our AFVBC for your benefit\, bringing you everything from subsidised Summer balls to Christmas balls and trips etc etc. Please do come along\, support them and say hello!
URL:https://salisbury-afvbc.co.uk/event/field-kitchen-at-the-charter-market-15-november/
LOCATION:Salisbury Market Square\, The Guildhall Market Place\, Salsibury\, Wiltsire\, SP1 1JH\, United Kingdom
END:VEVENT
BEGIN:VEVENT
DTSTART;TZID=Europe/London:20251109T093000
DTEND;TZID=Europe/London:20251109T113000
DTSTAMP:20260423T083138
CREATED:20250106T154752Z
LAST-MODIFIED:20250816T065344Z
UID:9007-1762680600-1762687800@salisbury-afvbc.co.uk
SUMMARY:Breakfast - The White Hart - 09 November
DESCRIPTION:Currently Registered\n				Be the first! \n			\n			\n \nNovember 9th – Remembrance Sunday.\nBacon rolls\, Tea and Coffee and Orange Juice will be served in the bar at the White Hart 09.30 prior to the parade.\n\n\nPlease pay here\nYou are now required to pay prior to the event\, there will NOT be any provision to pay on the day.  Refund requests without 3 full working days prior to the event will not be accepted \n\n 
URL:https://salisbury-afvbc.co.uk/event/breakfast-the-white-hart-09-november/
LOCATION:Mercure White Hart Hotel\, 1 St John's Street\, Salisbury\, Wilthsire\, SP1 2SD\, United Kingdom
CATEGORIES:AFVBC Breakfast
END:VEVENT
BEGIN:VEVENT
DTSTART;TZID=Europe/London:20251109T130000
DTEND;TZID=Europe/London:20251109T160000
DTSTAMP:20260423T083138
CREATED:20250107T223306Z
LAST-MODIFIED:20251105T102015Z
UID:9319-1762693200-1762704000@salisbury-afvbc.co.uk
SUMMARY:Sunday Lunch in the White Hart - 9 November (Armistice Day)
DESCRIPTION:Currently RegisteredDebra Mclean Rob Davie Bob Barwick Phil Rood Cameron Purdon Graham Taylor Jim McDougall Abby Duncan Alan Cam Rich Butcher Les Smith Werner Stroud Ian Taylor Andy Heath  \n\n			\n				\n			\n			\n				\n			\n			\n				\n			\n			\n				\n			\n			\n				\n			\n			\n				\n			\n		\n\n   Remembrance Sunday Lunch – 9th November 2025\nAppetisers\n1. Roasted Tomato Soup with Basil Pesto \n2.  Tempura King Prawns with Garlic Mayo \n3.  Trio of Melon with Raspberry Sorbet \n4.  Serrano Ham with Fig and Mozzarella Salad\, Fig Glaze \nMains\n5.  Roast Sirloin of Beef with Yorkshire Pudding \n6.  Breast of Chicken\, Stuffing\, Pigs in Blanket \n7.  Fillet of Cod with Herb Crumb\, Prawn and White Wine Cream sauce \n8.  Creamy Broccoli and Pea Gnocchi with Pesto and Parmesan \nDesserts\n9.  Blueberry Crème Brulee\, Shortbread Biscuit \n10.  Vanilla and Salted Caramel Cheesecake\, Salted Caramel Ice-cream \n11.  Black Forest Meringue\, Berry Compote\, Whipped Cream \n12.  White Hart Orange and Whisky Bread and Butter Pudding with \nToffee Sauce and Vanilla Ice-cream \nTo Finish\nCoffee and Chocolates \nWine and port are included in the price of the meal\, there is not any provision for bringing your own wine (Corkage) at this event.  Non drinkers will have adequate soft drinks to the same value.\nPay here \nYou are required to pay prior to the event\, there will NOT be any facility to pay on the day.  Refund requests without 3 full working days prior to the event will not be accepted.\nTo find out more about this event click the link below\nMore Info
URL:https://salisbury-afvbc.co.uk/event/sunday-lunch-in-the-white-hart-9-november-remembrance-sunday/
LOCATION:Mercure White Hart Hotel\, 1 St John's Street\, Salisbury\, Wilthsire\, SP1 2SD\, United Kingdom
END:VEVENT
BEGIN:VEVENT
DTSTART;TZID=Europe/London:20251112T101500
DTEND;TZID=Europe/London:20251112T123000
DTSTAMP:20260423T083138
CREATED:20250106T181505Z
LAST-MODIFIED:20250106T181505Z
UID:9255-1762942500-1762950600@salisbury-afvbc.co.uk
SUMMARY:Amesbury Brew & Banter
DESCRIPTION:Come and join us for brew and some good banter at the Nicholson centre every Wednesday from 1015hrs.  For a small donation of £2 you can sample some excellent homemade backed goodies and bottomless brews.  All proceeds go to Military Charities
URL:https://salisbury-afvbc.co.uk/event/amesbury-brew-banter-110/
LOCATION:Nicolson Centre\, Stockport Road\, Amesbury\, SP4 0JE\, United Kingdom
END:VEVENT
BEGIN:VEVENT
DTSTART;TZID=Europe/London:20251114T110000
DTEND;TZID=Europe/London:20251114T130000
DTSTAMP:20260423T083138
CREATED:20250106T171231Z
LAST-MODIFIED:20250106T175410Z
UID:9082-1763118000-1763125200@salisbury-afvbc.co.uk
SUMMARY:Brew & Banter
DESCRIPTION:  \nBrew and Banter  will continue to support Karen Langleys “Boots on the Ground” initiative.  Please come along for a Brew and some of Salisburys finest baked goods at a fraction of the price that you will pay in a local coffee house.  Remember all funds raised go to our own supported charity.
URL:https://salisbury-afvbc.co.uk/event/brew-banter-103/
LOCATION:Riverside Santuary\, 2 Watt Road\, Salisbury\, Wiltshire\, SP2 7UD\, United Kingdom
END:VEVENT
BEGIN:VEVENT
DTSTART;TZID=Europe/London:20251119T090000
DTEND;TZID=Europe/London:20251119T230000
DTSTAMP:20260423T083138
CREATED:20250106T164648Z
LAST-MODIFIED:20250106T164648Z
UID:9054-1763542800-1763593200@salisbury-afvbc.co.uk
SUMMARY:Breakfast in Chapters - 19 November
DESCRIPTION:Chapters Communal Areas \nCome and join us for Breakfast in Chapters Bistro\, although this is the homeowners Bistro\, it is open for AFVBC members to attend the monthly breakfast held on the third Wednesday of the month
URL:https://salisbury-afvbc.co.uk/event/breakfast-in-chapters-19-november/
LOCATION:Chapters Bistro\, Off Fountain way\, Wilton Road\, Salsibury\, SP2 7EP\, United Kingdom
END:VEVENT
BEGIN:VEVENT
DTSTART;TZID=Europe/London:20251119T101500
DTEND;TZID=Europe/London:20251119T123000
DTSTAMP:20260423T083138
CREATED:20250106T181533Z
LAST-MODIFIED:20250106T181533Z
UID:9254-1763547300-1763555400@salisbury-afvbc.co.uk
SUMMARY:Amesbury Brew & Banter
DESCRIPTION:Come and join us for brew and some good banter at the Nicholson centre every Wednesday from 1015hrs.  For a small donation of £2 you can sample some excellent homemade backed goodies and bottomless brews.  All proceeds go to Military Charities
URL:https://salisbury-afvbc.co.uk/event/amesbury-brew-banter-111/
LOCATION:Nicolson Centre\, Stockport Road\, Amesbury\, SP4 0JE\, United Kingdom
END:VEVENT
BEGIN:VEVENT
DTSTART;TZID=Europe/London:20251121T110000
DTEND;TZID=Europe/London:20251121T130000
DTSTAMP:20260423T083138
CREATED:20250106T170711Z
LAST-MODIFIED:20250106T175555Z
UID:9091-1763722800-1763730000@salisbury-afvbc.co.uk
SUMMARY:Brew & Banter
DESCRIPTION:  \nBrew and Banter  will continue to support Karen Langleys “Boots on the Ground” initiative.  Please come along for a Brew and some of Salisburys finest baked goods at a fraction of the price that you will pay in a local coffee house.  Remember all funds raised go to our own supported charity.
URL:https://salisbury-afvbc.co.uk/event/brew-banter-94/
LOCATION:Riverside Santuary\, 2 Watt Road\, Salisbury\, Wiltshire\, SP2 7UD\, United Kingdom
END:VEVENT
BEGIN:VEVENT
DTSTART;TZID=Europe/London:20251121T110000
DTEND;TZID=Europe/London:20251121T130000
DTSTAMP:20260423T083138
CREATED:20250106T170924Z
LAST-MODIFIED:20250106T175503Z
UID:9087-1763722800-1763730000@salisbury-afvbc.co.uk
SUMMARY:Brew & Banter
DESCRIPTION:  \nBrew and Banter  will continue to support Karen Langleys “Boots on the Ground” initiative.  Please come along for a Brew and some of Salisburys finest baked goods at a fraction of the price that you will pay in a local coffee house.  Remember all funds raised go to our own supported charity.
URL:https://salisbury-afvbc.co.uk/event/brew-banter-98/
LOCATION:Riverside Santuary\, 2 Watt Road\, Salisbury\, Wiltshire\, SP2 7UD\, United Kingdom
END:VEVENT
BEGIN:VEVENT
DTSTART;TZID=Europe/London:20251126T101500
DTEND;TZID=Europe/London:20251126T123000
DTSTAMP:20260423T083138
CREATED:20250106T181601Z
LAST-MODIFIED:20250106T181601Z
UID:9253-1764152100-1764160200@salisbury-afvbc.co.uk
SUMMARY:Amesbury Brew & Banter
DESCRIPTION:Come and join us for brew and some good banter at the Nicholson centre every Wednesday from 1015hrs.  For a small donation of £2 you can sample some excellent homemade backed goodies and bottomless brews.  All proceeds go to Military Charities
URL:https://salisbury-afvbc.co.uk/event/amesbury-brew-banter-112/
LOCATION:Nicolson Centre\, Stockport Road\, Amesbury\, SP4 0JE\, United Kingdom
END:VEVENT
BEGIN:VEVENT
DTSTART;TZID=Europe/London:20251203T101500
DTEND;TZID=Europe/London:20251203T123000
DTSTAMP:20260423T083138
CREATED:20250106T181632Z
LAST-MODIFIED:20250106T181632Z
UID:9252-1764756900-1764765000@salisbury-afvbc.co.uk
SUMMARY:Amesbury Brew & Banter
DESCRIPTION:Come and join us for brew and some good banter at the Nicholson centre every Wednesday from 1015hrs.  For a small donation of £2 you can sample some excellent homemade backed goodies and bottomless brews.  All proceeds go to Military Charities
URL:https://salisbury-afvbc.co.uk/event/amesbury-brew-banter-113/
LOCATION:Nicolson Centre\, Stockport Road\, Amesbury\, SP4 0JE\, United Kingdom
END:VEVENT
BEGIN:VEVENT
DTSTART;TZID=Europe/London:20251205T110000
DTEND;TZID=Europe/London:20251205T130000
DTSTAMP:20260423T083138
CREATED:20250106T170505Z
LAST-MODIFIED:20250106T175714Z
UID:9095-1764932400-1764939600@salisbury-afvbc.co.uk
SUMMARY:Brew & Banter
DESCRIPTION:  \nBrew and Banter  will continue to support Karen Langleys “Boots on the Ground” initiative.  Please come along for a Brew and some of Salisburys finest baked goods at a fraction of the price that you will pay in a local coffee house.  Remember all funds raised go to our own supported charity.
URL:https://salisbury-afvbc.co.uk/event/brew-banter-20/
LOCATION:Riverside Santuary\, 2 Watt Road\, Salisbury\, Wiltshire\, SP2 7UD\, United Kingdom
END:VEVENT
BEGIN:VEVENT
DTSTART;TZID=Europe/London:20251210T101500
DTEND;TZID=Europe/London:20251210T123000
DTSTAMP:20260423T083138
CREATED:20250106T181701Z
LAST-MODIFIED:20250106T181701Z
UID:9251-1765361700-1765369800@salisbury-afvbc.co.uk
SUMMARY:Amesbury Brew & Banter
DESCRIPTION:Come and join us for brew and some good banter at the Nicholson centre every Wednesday from 1015hrs.  For a small donation of £2 you can sample some excellent homemade backed goodies and bottomless brews.  All proceeds go to Military Charities
URL:https://salisbury-afvbc.co.uk/event/amesbury-brew-banter-114/
LOCATION:Nicolson Centre\, Stockport Road\, Amesbury\, SP4 0JE\, United Kingdom
END:VEVENT
BEGIN:VEVENT
DTSTART;TZID=Europe/London:20251212T110000
DTEND;TZID=Europe/London:20251212T130000
DTSTAMP:20260423T083138
CREATED:20250106T171445Z
LAST-MODIFIED:20250106T175804Z
UID:9078-1765537200-1765544400@salisbury-afvbc.co.uk
SUMMARY:Brew & Banter
DESCRIPTION:  \nBrew and Banter  will continue to support Karen Langleys “Boots on the Ground” initiative.  Please come along for a Brew and some of Salisburys finest baked goods at a fraction of the price that you will pay in a local coffee house.  Remember all funds raised go to our own supported charity.
URL:https://salisbury-afvbc.co.uk/event/brew-banter-107/
LOCATION:Riverside Santuary\, 2 Watt Road\, Salisbury\, Wiltshire\, SP2 7UD\, United Kingdom
END:VEVENT
BEGIN:VEVENT
DTSTART;TZID=Europe/London:20251217T090000
DTEND;TZID=Europe/London:20251217T230000
DTSTAMP:20260423T083138
CREATED:20250106T164742Z
LAST-MODIFIED:20250106T164742Z
UID:9053-1765962000-1766012400@salisbury-afvbc.co.uk
SUMMARY:Breakfast in Chapters - 17 December
DESCRIPTION:Chapters Communal Areas \nCome and join us for Breakfast in Chapters Bistro\, although this is the homeowners Bistro\, it is open for AFVBC members to attend the monthly breakfast held on the third Wednesday of the month
URL:https://salisbury-afvbc.co.uk/event/breakfast-in-chapters-17-december/
LOCATION:Chapters Bistro\, Off Fountain way\, Wilton Road\, Salsibury\, SP2 7EP\, United Kingdom
END:VEVENT
BEGIN:VEVENT
DTSTART;TZID=Europe/London:20251217T101500
DTEND;TZID=Europe/London:20251217T123000
DTSTAMP:20260423T083138
CREATED:20250106T181732Z
LAST-MODIFIED:20250106T181732Z
UID:9250-1765966500-1765974600@salisbury-afvbc.co.uk
SUMMARY:Amesbury Brew & Banter
DESCRIPTION:Come and join us for brew and some good banter at the Nicholson centre every Wednesday from 1015hrs.  For a small donation of £2 you can sample some excellent homemade backed goodies and bottomless brews.  All proceeds go to Military Charities
URL:https://salisbury-afvbc.co.uk/event/amesbury-brew-banter-115/
LOCATION:Nicolson Centre\, Stockport Road\, Amesbury\, SP4 0JE\, United Kingdom
END:VEVENT
BEGIN:VEVENT
DTSTART;TZID=Europe/London:20251219T110000
DTEND;TZID=Europe/London:20251219T130000
DTSTAMP:20260423T083138
CREATED:20250106T174330Z
LAST-MODIFIED:20250106T175843Z
UID:9200-1766142000-1766149200@salisbury-afvbc.co.uk
SUMMARY:Brew & Banter
DESCRIPTION:  \nBrew and Banter  will continue to support Karen Langleys “Boots on the Ground” initiative.  Please come along for a Brew and some of Salisburys finest baked goods at a fraction of the price that you will pay in a local coffee house.  Remember all funds raised go to our own supported charity.
URL:https://salisbury-afvbc.co.uk/event/brew-banter-111/
LOCATION:Riverside Santuary\, 2 Watt Road\, Salisbury\, Wiltshire\, SP2 7UD\, United Kingdom
END:VEVENT
END:VCALENDAR