BEGIN:VCALENDAR
VERSION:2.0
PRODID:-//Salisbury &amp; Amesbury AFVBC - ECPv6.15.20//NONSGML v1.0//EN
CALSCALE:GREGORIAN
METHOD:PUBLISH
X-WR-CALNAME:Salisbury &amp; Amesbury AFVBC
X-ORIGINAL-URL:https://salisbury-afvbc.co.uk
X-WR-CALDESC:Events for Salisbury &amp; Amesbury AFVBC
REFRESH-INTERVAL;VALUE=DURATION:PT1H
X-Robots-Tag:noindex
X-PUBLISHED-TTL:PT1H
BEGIN:VTIMEZONE
TZID:Europe/London
BEGIN:DAYLIGHT
TZOFFSETFROM:+0000
TZOFFSETTO:+0100
TZNAME:BST
DTSTART:20240331T010000
END:DAYLIGHT
BEGIN:STANDARD
TZOFFSETFROM:+0100
TZOFFSETTO:+0000
TZNAME:GMT
DTSTART:20241027T010000
END:STANDARD
BEGIN:DAYLIGHT
TZOFFSETFROM:+0000
TZOFFSETTO:+0100
TZNAME:BST
DTSTART:20250330T010000
END:DAYLIGHT
BEGIN:STANDARD
TZOFFSETFROM:+0100
TZOFFSETTO:+0000
TZNAME:GMT
DTSTART:20251026T010000
END:STANDARD
BEGIN:DAYLIGHT
TZOFFSETFROM:+0000
TZOFFSETTO:+0100
TZNAME:BST
DTSTART:20260329T010000
END:DAYLIGHT
BEGIN:STANDARD
TZOFFSETFROM:+0100
TZOFFSETTO:+0000
TZNAME:GMT
DTSTART:20261025T010000
END:STANDARD
END:VTIMEZONE
BEGIN:VEVENT
DTSTART;TZID=Europe/London:20250827T101500
DTEND;TZID=Europe/London:20250827T123000
DTSTAMP:20260423T054905
CREATED:20250106T180814Z
LAST-MODIFIED:20250106T180814Z
UID:9230-1756289700-1756297800@salisbury-afvbc.co.uk
SUMMARY:Amesbury Brew & Banter
DESCRIPTION:Come and join us for brew and some good banter at the Nicholson centre every Wednesday from 1015hrs.  For a small donation of £2 you can sample some excellent homemade backed goodies and bottomless brews.  All proceeds go to Military Charities
URL:https://salisbury-afvbc.co.uk/event/amesbury-brew-banter-99/
LOCATION:Nicolson Centre\, Stockport Road\, Amesbury\, SP4 0JE\, United Kingdom
END:VEVENT
BEGIN:VEVENT
DTSTART;TZID=Europe/London:20250822T110000
DTEND;TZID=Europe/London:20250822T130000
DTSTAMP:20260423T054905
CREATED:20250106T174605Z
LAST-MODIFIED:20250106T174605Z
UID:9196-1755860400-1755867600@salisbury-afvbc.co.uk
SUMMARY:Brew & Banter
DESCRIPTION:  \nBrew and Banter  will continue to support Karen Langleys “Boots on the Ground” initiative.  Please come along for a Brew and some of Salisburys finest baked goods at a fraction of the price that you will pay in a local coffee house.  Remember all funds raised go to our own supported charity.
URL:https://salisbury-afvbc.co.uk/event/brew-banter-115/
LOCATION:Riverside Santuary\, 2 Watt Road\, Salisbury\, Wiltshire\, SP2 7UD\, United Kingdom
END:VEVENT
BEGIN:VEVENT
DTSTART;TZID=Europe/London:20250820T101500
DTEND;TZID=Europe/London:20250820T123000
DTSTAMP:20260423T054905
CREATED:20250106T180744Z
LAST-MODIFIED:20250106T180744Z
UID:9231-1755684900-1755693000@salisbury-afvbc.co.uk
SUMMARY:Amesbury Brew & Banter
DESCRIPTION:Come and join us for brew and some good banter at the Nicholson centre every Wednesday from 1015hrs.  For a small donation of £2 you can sample some excellent homemade backed goodies and bottomless brews.  All proceeds go to Military Charities
URL:https://salisbury-afvbc.co.uk/event/amesbury-brew-banter-98/
LOCATION:Nicolson Centre\, Stockport Road\, Amesbury\, SP4 0JE\, United Kingdom
END:VEVENT
BEGIN:VEVENT
DTSTART;TZID=Europe/London:20250820T090000
DTEND;TZID=Europe/London:20250820T230000
DTSTAMP:20260423T054905
CREATED:20250106T164422Z
LAST-MODIFIED:20250106T164422Z
UID:9057-1755680400-1755730800@salisbury-afvbc.co.uk
SUMMARY:Breakfast in Chapters - 20 August
DESCRIPTION:Chapters Communal Areas \nCome and join us for Breakfast in Chapters Bistro\, although this is the homeowners Bistro\, it is open for AFVBC members to attend the monthly breakfast held on the third Wednesday of the month
URL:https://salisbury-afvbc.co.uk/event/breakfast-in-chapters-20-august/
LOCATION:Chapters Bistro\, Off Fountain way\, Wilton Road\, Salsibury\, SP2 7EP\, United Kingdom
END:VEVENT
BEGIN:VEVENT
DTSTART;TZID=Europe/London:20250816T104500
DTEND;TZID=Europe/London:20250816T170000
DTSTAMP:20260423T054905
CREATED:20250802T111435Z
LAST-MODIFIED:20250812T083115Z
UID:9525-1755341100-1755363600@salisbury-afvbc.co.uk
SUMMARY:Bombay Sapphire Trip - 16 August - C A N C E L L E D
DESCRIPTION:A trip to the Bombay Sapphire distillery has been organised for Saturday 16th August.  We have a 16 seater minibus\, driven by Andy Heath\, which will depart the coach station on Millstream approach at 1045hrs.  Once the tour complete we have a table booked for lunch at The Mayfly pub\, Stockbridge. \nThe trip is £25.30 per person (£19.80 Distillery entrance & £5.50 Minibus) please make your menu choices and add it to the trip cost. \nTo pay for this event click here \n\nMENU \nWHILE YOU WAIT\n1. Chilli & garlic olives (pb) (v5.00.  ) \nGrilled breads (£5.00) \n2.  balsalmic vinegar & olive oil (pb) \nSTARTERS\n3.  Carrot & coriander soup (£6.95) \nwith pumpkin seed granola (v)   \n4.  Ham hock terrine (£8.95) \npickled vegetables & toasted sourdough  \n5.  Mojito salmon gravlax (£10.95) \npickled kohlrabi slaw\, capers and dill \n6.  Beetroot carpaccio (£8.95) \napple & kohlrabi slaw\, toasted walnuts (pb) (v) \n7.  Burrata (£12.00) \nmarinated tomatoes on sourdough bruschetta (v) \nMAINS\n8.  Courgette & crab linguine (£20.95) \ncherry tomato and chilli salsa  \n9.  Greek salad (£13.95) \nfeta\, cucumber\, red onion\, tomatoes\, olives\, olive oil dressing \n10.  Grilled lemon & thyme chicken breast burger (£17.50) \nwith charred aubergine\, romesco sauce\, lettuce\, tomato and triplecooked chips  \n11.   Brown butter Chalk Stream trout fillet (£20.50) \nwith crushed Ratte potatoes\, olives & capers  \n12.  8oz sirloin steak (£29.95) \nPanzanella salad \n13.  Roasted lamb rump (£24.00) \nmashed potato\, hispi cabbage\, sauce Vierge  \n14.  Pan roasted gnocchi & Caponata vegetables (£17.00) \nroasted artichocke and crispy basil (pb) (v) \n15.  Flatbread (£12.50) \nRomesco sauce\, charred courgette\, balsamic red onions\, cherry tomatoes\, rocket (v) \nPUB CLASSIC\n16.  Steak & ale pie (£17.50) \nserved with seasonal vegetables\, mashed potato and red wine gravy  \n17.  Beer battered haddock & chips (£18.50) \ncrushed minted peas\, tartare sauce \n18.  Beef burger (£17.50) \nwith Monterey Jack cheese\, London Pride braised onions\, burger sauce\, rocket\, gherkin\, tomato\, kohlrabi coleslaw\, triple-cooked chips  \nSIDES\n19 .  Chilli Broccoli & sea salt(pb) (£5.50) \n20.  Heritage tomato panzanella (£4.95) \n21.  Fries (pb) (v) (£4.95) \n22.  Roasted herby New potatoes (v) (£4.50) \nDESSERTS\n23.  Sticky toffee pudding (£7.95) \nwith caramelised banana\, vanilla ice cream and toffee sauce (v) \n24.  Chocolate pave (£7.95) \nFrangelico Chantilly\, toasted hazelnuts\, chocolate soil (pb) (v)  \n25.  Summer berry Eton Mess (£7.50) \nChantilly\, meringue (pb) (v) \n26.  Lemon curd and raspberry bread & butter (£8.95) \nvanilla ice cream (v) \nLITTLE TREAT TO FINISH\n27.  Mini sticky toffee pudding (£5.95) \nhot drink of your choice \n28.  Mini chocolate brownie (£5.95) \nhot drink of your choice
URL:https://salisbury-afvbc.co.uk/event/bombay-sapphire-trip-16-august/
LOCATION:Bombay Sapphire\, Laverstock Mill\, Whitchurch\, RG28 7NR\, United Kingdom
CATEGORIES:Function
END:VEVENT
BEGIN:VEVENT
DTSTART;TZID=Europe/London:20250815T110000
DTEND;TZID=Europe/London:20250815T130000
DTSTAMP:20260423T054905
CREATED:20250106T174518Z
LAST-MODIFIED:20250106T174518Z
UID:9197-1755255600-1755262800@salisbury-afvbc.co.uk
SUMMARY:Brew & Banter
DESCRIPTION:  \nBrew and Banter  will continue to support Karen Langleys “Boots on the Ground” initiative.  Please come along for a Brew and some of Salisburys finest baked goods at a fraction of the price that you will pay in a local coffee house.  Remember all funds raised go to our own supported charity.
URL:https://salisbury-afvbc.co.uk/event/brew-banter-114/
LOCATION:Riverside Santuary\, 2 Watt Road\, Salisbury\, Wiltshire\, SP2 7UD\, United Kingdom
END:VEVENT
BEGIN:VEVENT
DTSTART;TZID=Europe/London:20250813T101500
DTEND;TZID=Europe/London:20250813T123000
DTSTAMP:20260423T054905
CREATED:20250106T180710Z
LAST-MODIFIED:20250106T180710Z
UID:9232-1755080100-1755088200@salisbury-afvbc.co.uk
SUMMARY:Amesbury Brew & Banter
DESCRIPTION:Come and join us for brew and some good banter at the Nicholson centre every Wednesday from 1015hrs.  For a small donation of £2 you can sample some excellent homemade backed goodies and bottomless brews.  All proceeds go to Military Charities
URL:https://salisbury-afvbc.co.uk/event/amesbury-brew-banter-97/
LOCATION:Nicolson Centre\, Stockport Road\, Amesbury\, SP4 0JE\, United Kingdom
END:VEVENT
BEGIN:VEVENT
DTSTART;TZID=Europe/London:20250608T093000
DTEND;TZID=Europe/London:20250608T113000
DTSTAMP:20260423T054905
CREATED:20250106T154213Z
LAST-MODIFIED:20250106T154213Z
UID:9012-1749375000-1749382200@salisbury-afvbc.co.uk
SUMMARY:Breakfast - The White Hart - 08 June
DESCRIPTION:Currently RegisteredBambra Freeman Robert Barwick Abby Duncan Ronald Collins Mark Duncan Phillip Rood Jim McDougall Mark Young Bruce Eyre Phil Budd Les Smith \n \n\nAn excellent breakfast in the hart of Salisbury.  Coffee is served from 0930hrs\, which is a great chance to meet new people and catch up with friends.  Dress is very relaxed or as formal as you like!
URL:https://salisbury-afvbc.co.uk/event/breakfast-the-white-hart-08-june/
LOCATION:Mercure White Hart Hotel\, 1 St John's Street\, Salisbury\, Wilthsire\, SP1 2SD\, United Kingdom
CATEGORIES:AFVBC Breakfast
END:VEVENT
BEGIN:VEVENT
DTSTART;TZID=Europe/London:20250607T183000
DTEND;TZID=Europe/London:20250607T233000
DTSTAMP:20260423T054905
CREATED:20250107T220813Z
LAST-MODIFIED:20250114T215718Z
UID:9301-1749321000-1749339000@salisbury-afvbc.co.uk
SUMMARY:HMS Victory Dinner - CANCELLED
DESCRIPTION:Currently Registered\n				Be the first! \n			\n			\n  \nDate to be confirmed but likely to be end of May beginning of June
URL:https://salisbury-afvbc.co.uk/event/hms-victory-dinner-date-to-be-confirmed/
LOCATION:HMS Victory\, HM Naval Base\, Portsmouth\, PO1 3NH\, United Kingdom
CATEGORIES:Function
END:VEVENT
BEGIN:VEVENT
DTSTART;TZID=Europe/London:20250517T063000
DTEND;TZID=Europe/London:20250517T150000
DTSTAMP:20260423T054905
CREATED:20250107T171845Z
LAST-MODIFIED:20250107T171845Z
UID:9273-1747463400-1747494000@salisbury-afvbc.co.uk
SUMMARY:Field Kitchen at the Charter Market - 17 May
DESCRIPTION:Along with the ABF book stall\, we will have quite a presence in that right hand corner.  Remember every penny these guys and girls raise for doing this throughout the year\, goes into our AFVBC for your benefit\, bringing you everything from subsidised Summer balls to Christmas balls and trips etc etc. Please do come along\, support them and say hello!
URL:https://salisbury-afvbc.co.uk/event/field-kitchen-at-the-charter-market-17-may/
LOCATION:Salisbury Market Square\, The Guildhall Market Place\, Salsibury\, Wiltsire\, SP1 1JH\, United Kingdom
END:VEVENT
BEGIN:VEVENT
DTSTART;TZID=Europe/London:20250511T093000
DTEND;TZID=Europe/London:20250511T113000
DTSTAMP:20260423T054905
CREATED:20250106T154115Z
LAST-MODIFIED:20250429T211249Z
UID:9013-1746955800-1746963000@salisbury-afvbc.co.uk
SUMMARY:FREE VE DAY Breakfast - 11 May
DESCRIPTION:Currently RegisteredDan Hughes Ian Jacka John Sykes Jim McDougall Philip Thomas Charlie Killick Bob Barwick Werner Stroud Tim Aldridge Dave Cole Iain MacDonald Mark Young Alex Chalmers Andrew Heath Roger Tervit Andrea Pennington Eric Taylor Stephen Williams Fritz Macaulay Phil Budd Diane Welsh John Smith-Enticott Don Baggett Les Smith John Mussell John Baber Muck Alderson Bill Brooks John Manning Christopher Williams Chris Child Nobby Nevill Cameron Purdon Julie Perry Rich Butcher Elizabeth (Lisa) Abbott-Myerscough Joe Cameron Jackie Clark Andy McCafferty Graham Taylor Taff Bailey Terence McLaren-Shepherd Bambra Freeman Bruce Eyre Diane Welsh George Betts Garry Eydmann \n \n\nCome and join us to commemorate the 80th anniversary of Victory in Europe (VE DAY).  The Field Kitchen have worked super hard and raised enough funds to purchase 80 FREE breakfasts at the White Hart.  If you and your wife/partner etc\, would like to attend please do register.   Don’t leave till the last minute as you may well have to pay!  We have 80 Free Breakfasts on a first come first registered basis.  Coffee will be served as usual from 0930hrs.  Dress is very relaxed or as formal as you like!  Lets make this a Breakfast to remember.
URL:https://salisbury-afvbc.co.uk/event/breakfast-the-white-hart-11-may/
LOCATION:Mercure White Hart Hotel\, 1 St John's Street\, Salisbury\, Wilthsire\, SP1 2SD\, United Kingdom
CATEGORIES:AFVBC Breakfast
END:VEVENT
BEGIN:VEVENT
DTSTART;TZID=Europe/London:20250301T183000
DTEND;TZID=Europe/London:20250301T233000
DTSTAMP:20260423T054905
CREATED:20250124T163726Z
LAST-MODIFIED:20250226T184708Z
UID:9325-1740853800-1740871800@salisbury-afvbc.co.uk
SUMMARY:Lt Tom Adlam VC - Ladies Dinner Night - 01 March
DESCRIPTION:Appetisers \n1. Cream of Mushroom and Tarragon Soup \n2.  Prawn and Cucumber Salad with Marie Rose Dressing \n3.  Deep Fried Camembert with Cranberry Sauce \n4.  Smoked Salmon with Lemon and Capers \nMains \n5.  Braised Blade of Beef in a rich Red Wine and Shallot Sauce \n6.  Pork Medallions\, glazed with Stilton\, Port Wine Sauce – Gluten Free \n7.  Fillet of Salmon with Herb Crumb\, Saffron Cream Sauce \n8.  Roasted Mediterranean Vegetable and Mozzarella Tian\, Pesto Dressing \nDesserts \n9.  Warm Treacle Tart with Clotted Cream \n10.  Crème Brulee\, Shortbread and Roasted Fig \n11.  Profiteroles with Chocolate Sauce \n12.  Lemon Cheesecake with Berry Compote \nTo Finish \nCoffee and Chocolates \nMore about this event click here\nTo Pay for this event click here
URL:https://salisbury-afvbc.co.uk/event/adlam-vc-ladies-dinner-night-01-march/
LOCATION:Mercure White Hart Hotel\, 1 St John's Street\, Salisbury\, Wilthsire\, SP1 2SD\, United Kingdom
CATEGORIES:Dinner Night
END:VEVENT
BEGIN:VEVENT
DTSTART;TZID=Europe/London:20250215T063000
DTEND;TZID=Europe/London:20250215T150000
DTSTAMP:20260423T054905
CREATED:20250107T170735Z
LAST-MODIFIED:20250107T170735Z
UID:9276-1739601000-1739631600@salisbury-afvbc.co.uk
SUMMARY:Field Kitchen at the Charter Market - 15 February
DESCRIPTION:Along with the ABF book stall\, we will have quite a presence in that right hand corner.  Remember every penny these guys and girls raise for doing this throughout the year\, goes into our AFVBC for your benefit\, bringing you everything from subsidised Summer balls to Christmas balls and trips etc etc. Please do come along\, support them and say hello!
URL:https://salisbury-afvbc.co.uk/event/field-kitchen-at-the-charter-market-15-february/
LOCATION:Salisbury Market Square\, The Guildhall Market Place\, Salsibury\, Wiltsire\, SP1 1JH\, United Kingdom
END:VEVENT
BEGIN:VEVENT
DTSTART;TZID=Europe/London:20250125T183000
DTEND;TZID=Europe/London:20250125T233000
DTSTAMP:20260423T054905
CREATED:20241213T124147Z
LAST-MODIFIED:20250105T211434Z
UID:8939-1737829800-1737847800@salisbury-afvbc.co.uk
SUMMARY:Burns Supper - 25 January 2025
DESCRIPTION:Currently RegisteredTed Last David VINE Barbara Leatham Pob Wilde Jim Corrigan Jim McDougall christopher Davey-McLean Andrew Heath Richard Agnew Vos Andrew Powlesland Taff Bailey George Sargeant Walter Noel Roberts Stephen Williams Peter Duffill John Smith-Enticott John Mussell Jon Lyndene Anwen Smith Katherine Woodall Alan Vine Sven Hocking Ian Taylor Jayne Smither Antony Warley Shaun Benfield Craig Rome Dave Robinson Adrian Plowman John Lindley Stu Carter Chris Child Terry Dunford Kate Everett Nobby Nevill Mel Green Werner Stroud Abby Duncan Sarah Ferguson Nobby Nevill David Davidson Terence McLaren-Shepherd Peter Greatorex Karen Langley Cathy Lynch Isaac Jones James MacMillan Steve Ward Ian Jaka Ken Caunter Cliff Warwick Cameron Purdon David Cox Brian Benfield David MacKay Liv McLennan \nThe White Hart Hotel\nBurns Night Dinner\nSaturday 25th January 2025 \n \nAppetiser \nCullen Skink (1)\nSmoked Mackerel Pate. Horseradish Cream\, Salt and Pepper Croutes (2)\nFried Potato Cake topped with Poached Egg and Hollandaise Sauce (3) \nMain Course \nHaggis\, Neeps and Tatties (4)\nVegetarian Haggis Neeps and Tatties (4A)\nTurkey Escalope stuffed with Haggis wrapped in Bacon on a Balmoral Sauce\, crushed\nNew Potatoes (5)\nTurkey Escalope stuffed with Sage & Onion wrapped in Bacon on a Balmoral Sauce.\ncrushed New Potatoes (G)\nRumbledethumps with Roasted Vegetables\, Herb Dressing (7) \nDessert \nRaspberru Cranachan (8)\nGlasgow Apple Frushic and a Het Pint (0)\n(Apple Pie with a Spiced Custard)\nFresh Fruit with Crushed Meringue and Vanilla Cream (10) \nTo Finish \nCoffee and Shortbread Rounds \n  \nAbout this event click here\nTo pay for this event click here\nAFVBC members may register themslves and their significant other or one guest only
URL:https://salisbury-afvbc.co.uk/event/burns-supper/
LOCATION:Mercure White Hart Hotel\, 1 St John's Street\, Salisbury\, Wilthsire\, SP1 2SD\, United Kingdom
ORGANIZER;CN="Cameron Purdon":MAILTO:ecam62@gmail.com
END:VEVENT
END:VCALENDAR