BEGIN:VCALENDAR
VERSION:2.0
PRODID:-//Salisbury &amp; Amesbury AFVBC - ECPv6.15.20//NONSGML v1.0//EN
CALSCALE:GREGORIAN
METHOD:PUBLISH
X-ORIGINAL-URL:https://salisbury-afvbc.co.uk
X-WR-CALDESC:Events for Salisbury &amp; Amesbury AFVBC
REFRESH-INTERVAL;VALUE=DURATION:PT1H
X-Robots-Tag:noindex
X-PUBLISHED-TTL:PT1H
BEGIN:VTIMEZONE
TZID:Europe/London
BEGIN:DAYLIGHT
TZOFFSETFROM:+0000
TZOFFSETTO:+0100
TZNAME:BST
DTSTART:20250330T010000
END:DAYLIGHT
BEGIN:STANDARD
TZOFFSETFROM:+0100
TZOFFSETTO:+0000
TZNAME:GMT
DTSTART:20251026T010000
END:STANDARD
BEGIN:DAYLIGHT
TZOFFSETFROM:+0000
TZOFFSETTO:+0100
TZNAME:BST
DTSTART:20260329T010000
END:DAYLIGHT
BEGIN:STANDARD
TZOFFSETFROM:+0100
TZOFFSETTO:+0000
TZNAME:GMT
DTSTART:20261025T010000
END:STANDARD
BEGIN:DAYLIGHT
TZOFFSETFROM:+0000
TZOFFSETTO:+0100
TZNAME:BST
DTSTART:20270328T010000
END:DAYLIGHT
BEGIN:STANDARD
TZOFFSETFROM:+0100
TZOFFSETTO:+0000
TZNAME:GMT
DTSTART:20271031T010000
END:STANDARD
END:VTIMEZONE
BEGIN:VEVENT
DTSTART;TZID=Europe/London:20260315T123000
DTEND;TZID=Europe/London:20260315T153000
DTSTAMP:20260422T212723
CREATED:20251125T150949Z
LAST-MODIFIED:20260312T162229Z
UID:9992-1773577800-1773588600@salisbury-afvbc.co.uk
SUMMARY:Sunday Lunch at The White Hart - 15 March 2026
DESCRIPTION:Currently RegisteredGeorge Betts Steve Mitchell Bambra Freeman Stella Crowe Jackie Clark JOHN SMITH-ENTICOTT Joe Cameron John Lindley Andy McCafferty Terence McLaren-Shepherd Taff (Bob) Bailey Graham Taylor Don Baggett Mark Duncan Mark Young George Betts Karen Langley Phil Budd Les Smith Steve Williams Christopher Williams  \n \nSTARTERS\n1. Asparagus and spinach soup \n2.  Chicken and apricot terrine\, spiced fruit chutney\, crostini \n3.  Salmon and mozzarella fish cake\, pickled cucumber salad\, tartare sauce \n4.  Grilled halloumi & butternut squash salad\, herb dressing & pumpkin seeds \nMAINS\n5.  Braised blade of beef in tomato and shallot\, red wine sauce \n6.  Breast of chicken\, asparagus cream sauce \n7.  Rolled pork belly\, wholegrain mustard and cider sauce \n8.  Herb crusted fillet of salmon\, white wine and prawn sauce \nHasselback courgette\, bean cassoulet \nDESSERTS\n9.  White chocolate and lemon parfait\, crushed raspberries \n10.  Chocolate and hazelnut mousse\, berry compote \n11.  Warm apple pie\, vanilla custard \n12.  Mango cheesecake\, mango and passionfruit salad \nTO FINISH\nCoffee and chocolates \n2 COURSES with COFFEE and CHOCOLATES – £22.71 \n3 COURSES with COFFEE and CHOCOLATES – £28.43 \nClick the button to Pay
URL:https://salisbury-afvbc.co.uk/event/sunday-lunch-at-the-white-hart-15-march-2026/
LOCATION:Mercure White Hart Hotel\, 1 St John's Street\, Salisbury\, Wilthsire\, SP1 2SD\, United Kingdom
CATEGORIES:Sunday Lunch
ATTACH;FMTTYPE=image/jpeg:https://salisbury-afvbc.co.uk/wp-content/uploads/2021/08/SundayLunch1.jpg
ORGANIZER;CN="John Smith-Enticott":MAILTO:Bagpuss.50@btinternet.com
END:VEVENT
END:VCALENDAR