BEGIN:VCALENDAR
VERSION:2.0
PRODID:-//Salisbury &amp; Amesbury AFVBC - ECPv6.15.20//NONSGML v1.0//EN
CALSCALE:GREGORIAN
METHOD:PUBLISH
X-WR-CALNAME:Salisbury &amp; Amesbury AFVBC
X-ORIGINAL-URL:http://salisbury-afvbc.co.uk
X-WR-CALDESC:Events for Salisbury &amp; Amesbury AFVBC
REFRESH-INTERVAL;VALUE=DURATION:PT1H
X-Robots-Tag:noindex
X-PUBLISHED-TTL:PT1H
BEGIN:VTIMEZONE
TZID:Europe/London
BEGIN:DAYLIGHT
TZOFFSETFROM:+0000
TZOFFSETTO:+0100
TZNAME:BST
DTSTART:20250330T010000
END:DAYLIGHT
BEGIN:STANDARD
TZOFFSETFROM:+0100
TZOFFSETTO:+0000
TZNAME:GMT
DTSTART:20251026T010000
END:STANDARD
BEGIN:DAYLIGHT
TZOFFSETFROM:+0000
TZOFFSETTO:+0100
TZNAME:BST
DTSTART:20260329T010000
END:DAYLIGHT
BEGIN:STANDARD
TZOFFSETFROM:+0100
TZOFFSETTO:+0000
TZNAME:GMT
DTSTART:20261025T010000
END:STANDARD
BEGIN:DAYLIGHT
TZOFFSETFROM:+0000
TZOFFSETTO:+0100
TZNAME:BST
DTSTART:20270328T010000
END:DAYLIGHT
BEGIN:STANDARD
TZOFFSETFROM:+0100
TZOFFSETTO:+0000
TZNAME:GMT
DTSTART:20271031T010000
END:STANDARD
END:VTIMEZONE
BEGIN:VEVENT
DTSTART;TZID=Europe/London:20260215T123000
DTEND;TZID=Europe/London:20260215T153000
DTSTAMP:20260422T231204
CREATED:20251125T150832Z
LAST-MODIFIED:20260129T102150Z
UID:9991-1771158600-1771169400@salisbury-afvbc.co.uk
SUMMARY:Sunday Lunch at The White Hart - 15 February 2026
DESCRIPTION:Currently RegisteredKaren Langley Stella Crowe Julie Perry Dave Barter Phil Budd Peter Greatorex Steve Mitchell Don Baggett Bambra Freemsn Terence McLaren-Shepherd John Smith-Enticott Peter Duffill  \n \nAppetisers\n1. Leek and Potato Soup\, Crispy Bacon Lardons \n2.  Serrano Ham with Fig and Mozzarella Salad\, Fig Glaze \n3.  Smoked Salmon\, Lemon and Capers \n4.  Parmesan and Mushroom Tartlet\, Dressed Rocket \nMain Courses\n5.  Breast of Chicken with a Wild Mushroom and Tarragon Cream Sauce \n6.  Pork Medallions with topped with Stilton\, Port Wine Sauce \n7.  Roast Fillet of Sea Bass with Prawn Sauce \n8.  Roasted Courgette filled with Mediterranean Vegetables\, Glazed with Mozzarella\, Tomato Sauce \nDesserts\n9.  Hazelnut Praline\, Toasted Nuts and Cherry Compote \n10.  Mango Cheesecake \n11.  Lemon Meringue Pie \n12.  Bread and Butter Pudding with Custard \nTo Finish\nCoffee and Chocolates \n2 COURSES with COFFEE and CHOCOLATES – £22.71 \n3 COURSES with COFFEE and CHOCOLATES – £28.43 \n  \nClick the button to Pay
URL:http://salisbury-afvbc.co.uk/event/sunday-lunch-at-the-white-hart-15-february-2026/
LOCATION:Mercure White Hart Hotel\, 1 St John's Street\, Salisbury\, Wilthsire\, SP1 2SD\, United Kingdom
CATEGORIES:Sunday Lunch
ATTACH;FMTTYPE=image/jpeg:http://salisbury-afvbc.co.uk/wp-content/uploads/2021/08/SundayLunch1.jpg
ORGANIZER;CN="John Smith-Enticott":MAILTO:Bagpuss.50@btinternet.com
END:VEVENT
END:VCALENDAR