BEGIN:VCALENDAR
VERSION:2.0
PRODID:-//Salisbury &amp; Amesbury AFVBC - ECPv6.15.20//NONSGML v1.0//EN
CALSCALE:GREGORIAN
METHOD:PUBLISH
X-WR-CALNAME:Salisbury &amp; Amesbury AFVBC
X-ORIGINAL-URL:http://salisbury-afvbc.co.uk
X-WR-CALDESC:Events for Salisbury &amp; Amesbury AFVBC
REFRESH-INTERVAL;VALUE=DURATION:PT1H
X-Robots-Tag:noindex
X-PUBLISHED-TTL:PT1H
BEGIN:VTIMEZONE
TZID:Europe/London
BEGIN:DAYLIGHT
TZOFFSETFROM:+0000
TZOFFSETTO:+0100
TZNAME:BST
DTSTART:20250330T010000
END:DAYLIGHT
BEGIN:STANDARD
TZOFFSETFROM:+0100
TZOFFSETTO:+0000
TZNAME:GMT
DTSTART:20251026T010000
END:STANDARD
BEGIN:DAYLIGHT
TZOFFSETFROM:+0000
TZOFFSETTO:+0100
TZNAME:BST
DTSTART:20260329T010000
END:DAYLIGHT
BEGIN:STANDARD
TZOFFSETFROM:+0100
TZOFFSETTO:+0000
TZNAME:GMT
DTSTART:20261025T010000
END:STANDARD
BEGIN:DAYLIGHT
TZOFFSETFROM:+0000
TZOFFSETTO:+0100
TZNAME:BST
DTSTART:20270328T010000
END:DAYLIGHT
BEGIN:STANDARD
TZOFFSETFROM:+0100
TZOFFSETTO:+0000
TZNAME:GMT
DTSTART:20271031T010000
END:STANDARD
END:VTIMEZONE
BEGIN:VEVENT
DTSTART;TZID=Europe/London:20260614T093000
DTEND;TZID=Europe/London:20260614T113000
DTSTAMP:20260422T224629
CREATED:20251121T164433Z
LAST-MODIFIED:20251121T164459Z
UID:9941-1781429400-1781436600@salisbury-afvbc.co.uk
SUMMARY:Breakfast - The White Hart - 14 June 2026
DESCRIPTION:Currently Registered\n				Be the first! \n			\n			\n \n\nAn excellent breakfast in the hart of Salisbury.  Coffee is served from 0930hrs\, which is a great chance to meet new people and catch up with friends.  Dress is very relaxed or as formal as you like! \nPlease pay at reception as you enter and obtain a ticket
URL:http://salisbury-afvbc.co.uk/event/breakfast-the-white-hart-14-june-2026/
LOCATION:Mercure White Hart Hotel\, 1 St John's Street\, Salisbury\, Wilthsire\, SP1 2SD\, United Kingdom
CATEGORIES:AFVBC Breakfast
END:VEVENT
END:VCALENDAR