BEGIN:VCALENDAR
VERSION:2.0
PRODID:-//Salisbury &amp; Amesbury AFVBC - ECPv6.15.20//NONSGML v1.0//EN
CALSCALE:GREGORIAN
METHOD:PUBLISH
X-ORIGINAL-URL:http://salisbury-afvbc.co.uk
X-WR-CALDESC:Events for Salisbury &amp; Amesbury AFVBC
REFRESH-INTERVAL;VALUE=DURATION:PT1H
X-Robots-Tag:noindex
X-PUBLISHED-TTL:PT1H
BEGIN:VTIMEZONE
TZID:Europe/London
BEGIN:DAYLIGHT
TZOFFSETFROM:+0000
TZOFFSETTO:+0100
TZNAME:BST
DTSTART:20240331T010000
END:DAYLIGHT
BEGIN:STANDARD
TZOFFSETFROM:+0100
TZOFFSETTO:+0000
TZNAME:GMT
DTSTART:20241027T010000
END:STANDARD
BEGIN:DAYLIGHT
TZOFFSETFROM:+0000
TZOFFSETTO:+0100
TZNAME:BST
DTSTART:20250330T010000
END:DAYLIGHT
BEGIN:STANDARD
TZOFFSETFROM:+0100
TZOFFSETTO:+0000
TZNAME:GMT
DTSTART:20251026T010000
END:STANDARD
BEGIN:DAYLIGHT
TZOFFSETFROM:+0000
TZOFFSETTO:+0100
TZNAME:BST
DTSTART:20260329T010000
END:DAYLIGHT
BEGIN:STANDARD
TZOFFSETFROM:+0100
TZOFFSETTO:+0000
TZNAME:GMT
DTSTART:20261025T010000
END:STANDARD
END:VTIMEZONE
BEGIN:VEVENT
DTSTART;TZID=Europe/London:20251012T093000
DTEND;TZID=Europe/London:20251012T113000
DTSTAMP:20260423T165757
CREATED:20250106T154646Z
LAST-MODIFIED:20251009T090357Z
UID:9008-1760261400-1760268600@salisbury-afvbc.co.uk
SUMMARY:Breakfast - The White Hart - 12 October
DESCRIPTION:Currently RegisteredPhil Budd \n \n\nAn excellent breakfast in the hart of Salisbury.  Coffee is served from 0930hrs\, which is a great chance to meet new people and catch up with friends.  Dress is very relaxed or as formal as you like! \nPlease pay at reception as you enter and obtain a ticket
URL:http://salisbury-afvbc.co.uk/event/breakfast-the-white-hart-12-october/
LOCATION:Mercure White Hart Hotel\, 1 St John's Street\, Salisbury\, Wilthsire\, SP1 2SD\, United Kingdom
CATEGORIES:AFVBC Breakfast
END:VEVENT
BEGIN:VEVENT
DTSTART;TZID=Europe/London:20251012T093000
DTEND;TZID=Europe/London:20251012T113000
DTSTAMP:20260423T165757
CREATED:20250816T065240Z
LAST-MODIFIED:20251001T200319Z
UID:9604-1760261400-1760268600@salisbury-afvbc.co.uk
SUMMARY:Breakfast - Venue TBC - 12 October 2025
DESCRIPTION:You are now required to pay prior to the event\, there will NOT be any provision to pay on the day.  Refund requests without 3 full working days prior to the event will not be accepted
URL:http://salisbury-afvbc.co.uk/event/breakfast-the-stones-hotel-12-october-2025/
LOCATION:The Stones Hotel\, Highpost\, SP4 6AT\, United Kingdom
CATEGORIES:AFVBC Breakfast
END:VEVENT
END:VCALENDAR